BEGIN:VCALENDAR
VERSION:2.0
PRODID:-//PublicHolidaysIn//Holiday Calendar//EN
CALSCALE:GREGORIAN
METHOD:PUBLISH
X-WR-CALNAME:Spain Public Holidays 2020
X-WR-CALDESC:Public holidays in Spain for 2020.
BEGIN:VEVENT
UID:new_years_day-2020-01-01@publicholidaysin.com
DTSTAMP:20260420T212759Z
DTSTART;VALUE=DATE:20200101
DTEND;VALUE=DATE:20200102
SUMMARY:Año Nuevo
DESCRIPTION:New Year’s Day (Año Nuevo / Ganjitsu)\n\nNew Year’s Day in Spain is a calm\, family-oriented celebration following the lively Nochevieja (New Year’s Eve) festivities. After midnight\, Spaniards eat twelve grapes - one for each stroke of the clock - to bring good luck for the twelve months ahead. The morning of January 1 is quiet\; most businesses\, banks\, and offices close\, and families share a hearty lunch of traditional dishes such as roast lamb or seafood.
URL:https://publicholidaysin.com/spain/2020
STATUS:CONFIRMED
TRANSP:TRANSPARENT
END:VEVENT
BEGIN:VEVENT
UID:epiphany-2020-01-06@publicholidaysin.com
DTSTAMP:20260420T212759Z
DTSTART;VALUE=DATE:20200106
DTEND;VALUE=DATE:20200107
SUMMARY:Día de Reyes / Epifanía del Señor
DESCRIPTION:Epiphany (Día de Reyes / Epifanía del Señor)\n\nThe Epiphany on January 6 is one of Spain’s most beloved holidays\, especially for children. It marks the arrival of the Three Wise Men\, who bring gifts the night before. Towns hold colorful parades (Cabalgatas de Reyes) with sweets thrown to the crowd. Bakeries sell “Roscón de Reyes\,” a ring-shaped cake with hidden surprises inside. Shops close\, and families gather for long lunches and present-opening.
URL:https://publicholidaysin.com/spain/2020
STATUS:CONFIRMED
TRANSP:TRANSPARENT
END:VEVENT
BEGIN:VEVENT
UID:andalusia_day-2020-02-28@publicholidaysin.com
DTSTAMP:20260420T212759Z
DTSTART;VALUE=DATE:20200228
DTEND;VALUE=DATE:20200229
SUMMARY:Día de Andalucía
DESCRIPTION:Andalusia Day (Día de Andalucía)\n\nAndalusia Day commemorates the 1980 referendum that granted autonomy to the Andalusian region. Public buildings display green-and-white flags\, schools organize cultural events\, and many museums and monuments open for free. It’s a public holiday in Andalusia\, so government offices and most businesses there are closed.
URL:https://publicholidaysin.com/spain/2020
STATUS:CONFIRMED
TRANSP:TRANSPARENT
END:VEVENT
BEGIN:VEVENT
UID:balearic_islands_day-2020-03-01@publicholidaysin.com
DTSTAMP:20260420T212759Z
DTSTART;VALUE=DATE:20200301
DTEND;VALUE=DATE:20200302
SUMMARY:Dia de les Illes Balears
DESCRIPTION:Day of the Balearic Islands (Dia de les Illes Balears)\n\nThis day celebrates the Balearic Islands’ Statute of Autonomy. Markets\, concerts\, and artisan fairs fill Palma and other island towns. Locals enjoy folk dancing\, local gastronomy\, and historical reenactments. It’s a regional holiday - government offices and many shops across Mallorca\, Menorca\, Ibiza\, and Formentera close.
URL:https://publicholidaysin.com/spain/2020
STATUS:CONFIRMED
TRANSP:TRANSPARENT
END:VEVENT
BEGIN:VEVENT
UID:Saint Joseph's Day-2020-03-19@publicholidaysin.com
DTSTAMP:20260420T212759Z
DTSTART;VALUE=DATE:20200319
DTEND;VALUE=DATE:20200320
SUMMARY:San José
DESCRIPTION:This is a public holiday in Spain.
URL:https://publicholidaysin.com/spain/2020
STATUS:CONFIRMED
TRANSP:TRANSPARENT
END:VEVENT
BEGIN:VEVENT
UID:maundy_thursday-2020-04-09@publicholidaysin.com
DTSTAMP:20260420T212759Z
DTSTART;VALUE=DATE:20200409
DTEND;VALUE=DATE:20200410
SUMMARY:Jueves Santo
DESCRIPTION:Maundy Thursday (Jueves Santo)\n\nPart of Holy Week (Semana Santa)\, Maundy Thursday recalls the Last Supper. Throughout Spain - particularly in Seville\, Málaga\, and Valladolid - processions of hooded penitents\, marching bands\, and religious floats fill the streets. It’s a solemn yet spectacular day\; schools\, offices\, and banks are closed in most regions.
URL:https://publicholidaysin.com/spain/2020
STATUS:CONFIRMED
TRANSP:TRANSPARENT
END:VEVENT
BEGIN:VEVENT
UID:good_friday-2020-04-10@publicholidaysin.com
DTSTAMP:20260420T212759Z
DTSTART;VALUE=DATE:20200410
DTEND;VALUE=DATE:20200411
SUMMARY:Viernes Santo
DESCRIPTION:Good Friday (Viernes Santo)\n\nOne of Spain’s most sacred days\, Good Friday features silent processions and church services commemorating the Passion of Christ. Towns dim their lights and music turns mournful. The day is a national holiday - banks\, government offices\, and most shops close - while streets echo with the slow drumbeats of Semana Santa.
URL:https://publicholidaysin.com/spain/2020
STATUS:CONFIRMED
TRANSP:TRANSPARENT
END:VEVENT
BEGIN:VEVENT
UID:easter_mon-2020-04-13@publicholidaysin.com
DTSTAMP:20260420T212759Z
DTSTART;VALUE=DATE:20200413
DTEND;VALUE=DATE:20200414
SUMMARY:Lunes de Pascua
DESCRIPTION:Easter Monday (Lunes de Pascua)\n\nEaster Monday is observed mainly in Catalonia\, Valencia\, and the Balearic Islands. Families gather for outdoor picnics and share the “Mona de Pascua\,” a decorated chocolate cake traditionally given to children by godparents. Public offices and banks close in regions where it’s recognized.
URL:https://publicholidaysin.com/spain/2020
STATUS:CONFIRMED
TRANSP:TRANSPARENT
END:VEVENT
BEGIN:VEVENT
UID:castile_leon_day-2020-04-23@publicholidaysin.com
DTSTAMP:20260420T212759Z
DTSTART;VALUE=DATE:20200423
DTEND;VALUE=DATE:20200424
SUMMARY:Día de Castilla y León
DESCRIPTION:Castile and León Day (Día de Castilla y León)\n\nThis regional holiday commemorates the 1521 Revolt of the Comuneros\, an uprising of citizens against royal authority. In Villalar de los Comuneros\, a historic town near Valladolid\, thousands gather for concerts\, folk music\, and traditional food. Schools and offices in Castile and León close for the day.
URL:https://publicholidaysin.com/spain/2020
STATUS:CONFIRMED
TRANSP:TRANSPARENT
END:VEVENT
BEGIN:VEVENT
UID:labour_day-2020-05-01@publicholidaysin.com
DTSTAMP:20260420T212759Z
DTSTART;VALUE=DATE:20200501
DTEND;VALUE=DATE:20200502
SUMMARY:Fiesta del trabajo
DESCRIPTION:Labour Day (Fiesta del Trabajo)\n\nLabour Day\, also known as International Workers’ Day\, honors Spain’s labor movement. Trade unions organize demonstrations in major cities advocating workers’ rights and fair wages. It’s a national public holiday - all government offices\, schools\, and most businesses are closed.
URL:https://publicholidaysin.com/spain/2020
STATUS:CONFIRMED
TRANSP:TRANSPARENT
END:VEVENT
BEGIN:VEVENT
UID:madrid_day-2020-05-02@publicholidaysin.com
DTSTAMP:20260420T212759Z
DTSTART;VALUE=DATE:20200502
DTEND;VALUE=DATE:20200503
SUMMARY:Fiesta de la Comunidad de Madrid
DESCRIPTION:Day of Madrid (Fiesta de la Comunidad de Madrid)\n\nThis holiday commemorates the 1808 uprising of Madrid citizens against Napoleonic forces. Official ceremonies take place at the Dos de Mayo square\, and cultural institutions offer free entry. The day is celebrated only in the Madrid region\, where offices and many shops close.
URL:https://publicholidaysin.com/spain/2020
STATUS:CONFIRMED
TRANSP:TRANSPARENT
END:VEVENT
BEGIN:VEVENT
UID:galician_literature_day-2020-05-17@publicholidaysin.com
DTSTAMP:20260420T212759Z
DTSTART;VALUE=DATE:20200517
DTEND;VALUE=DATE:20200518
SUMMARY:Día das Letras Galegas
DESCRIPTION:Galician Literature Day (Día das Letras Galegas)\n\nCelebrated in Galicia\, this day promotes Galician language and literature. Each year it honors a different Galician author. Schools and cultural centers host readings\, concerts\, and art events. Government offices and most businesses in Galicia close for the day.
URL:https://publicholidaysin.com/spain/2020
STATUS:CONFIRMED
TRANSP:TRANSPARENT
END:VEVENT
BEGIN:VEVENT
UID:canary_islands_day-2020-05-30@publicholidaysin.com
DTSTAMP:20260420T212759Z
DTSTART;VALUE=DATE:20200530
DTEND;VALUE=DATE:20200531
SUMMARY:Día de Canarias
DESCRIPTION:Day of the Canary Islands (Día de Canarias)\n\nThis day celebrates Canarian identity and the establishment of the Canary Islands’ autonomous government. Locals wear traditional dress\, enjoy folk dances\, and feast on regional dishes like gofio and papas arrugadas. Schools and offices across the islands close\, while cultural performances fill town squares.
URL:https://publicholidaysin.com/spain/2020
STATUS:CONFIRMED
TRANSP:TRANSPARENT
END:VEVENT
BEGIN:VEVENT
UID:castilla_la_mancha_day-2020-05-31@publicholidaysin.com
DTSTAMP:20260420T212759Z
DTSTART;VALUE=DATE:20200531
DTEND;VALUE=DATE:20200601
SUMMARY:Día de la Región Castilla-La Mancha
DESCRIPTION:Day of Castilla-La Mancha (Día de la Región Castilla-La Mancha)\n\nThe region celebrates its autonomy with concerts\, art exhibitions\, and food fairs. Official events take place in Toledo\, the regional capital. It’s a public holiday in Castilla-La Mancha - offices and most local businesses close.
URL:https://publicholidaysin.com/spain/2020
STATUS:CONFIRMED
TRANSP:TRANSPARENT
END:VEVENT
BEGIN:VEVENT
UID:la_rioja_day-2020-06-09@publicholidaysin.com
DTSTAMP:20260420T212759Z
DTSTART;VALUE=DATE:20200609
DTEND;VALUE=DATE:20200610
SUMMARY:Día de La Rioja
DESCRIPTION:Day of La Rioja (Día de La Rioja)\n\nThis day marks the establishment of La Rioja’s Statute of Autonomy. Local wineries host open days\, and towns hold folk festivals and concerts. It’s a day of regional pride and wine-related festivities. Public institutions in La Rioja are closed.
URL:https://publicholidaysin.com/spain/2020
STATUS:CONFIRMED
TRANSP:TRANSPARENT
END:VEVENT
BEGIN:VEVENT
UID:corpus_christi-2020-06-11@publicholidaysin.com
DTSTAMP:20260420T212759Z
DTSTART;VALUE=DATE:20200611
DTEND;VALUE=DATE:20200612
SUMMARY:Corpus Christi
DESCRIPTION:Corpus Christi (Corpus Christi)\n\nA traditional Catholic feast celebrating the Eucharist\, Corpus Christi is marked by elaborate processions with carpets of flowers and children dressed in white. Toledo’s celebration is the most famous\, with centuries-old relics paraded through its medieval streets. It’s a public holiday in several regions\, and many businesses close.
URL:https://publicholidaysin.com/spain/2020
STATUS:CONFIRMED
TRANSP:TRANSPARENT
END:VEVENT
BEGIN:VEVENT
UID:st_johns_day-2020-06-24@publicholidaysin.com
DTSTAMP:20260420T212759Z
DTSTART;VALUE=DATE:20200624
DTEND;VALUE=DATE:20200625
SUMMARY:Sant Joan
DESCRIPTION:St. John’s Day (Sant Joan / San Juan)\n\nCelebrated on the night of June 23–24\, St. John’s Day marks the summer solstice. Bonfires\, fireworks\, and beach parties fill the night from Alicante to Barcelona. People jump over small fires or swim at midnight for purification and luck. The next day\, public offices close in regions where it’s an official holiday.
URL:https://publicholidaysin.com/spain/2020
STATUS:CONFIRMED
TRANSP:TRANSPARENT
END:VEVENT
BEGIN:VEVENT
UID:santiago_apostol-2020-07-25@publicholidaysin.com
DTSTAMP:20260420T212759Z
DTSTART;VALUE=DATE:20200725
DTEND;VALUE=DATE:20200726
SUMMARY:Santiago Apóstol
DESCRIPTION:St. James’ Day (Santiago Apóstol)\n\nSt. James\, the patron saint of Spain\, is honored with religious processions and pilgrimages\, especially in Santiago de Compostela\, the endpoint of the Camino de Santiago. Pilgrims attend mass in the cathedral\, and fireworks light the square. It’s a national holiday in Galicia and some other regions.
URL:https://publicholidaysin.com/spain/2020
STATUS:CONFIRMED
TRANSP:TRANSPARENT
END:VEVENT
BEGIN:VEVENT
UID:cantabria_institutions_day-2020-07-28@publicholidaysin.com
DTSTAMP:20260420T212759Z
DTSTART;VALUE=DATE:20200728
DTEND;VALUE=DATE:20200729
SUMMARY:Día de las Instituciones de Cantabria
DESCRIPTION:Day of the Cantabrian Institutions (Día de las Instituciones de Cantabria)\n\nThis regional holiday commemorates the founding of Cantabria’s autonomous institutions in 1778. The main celebration takes place in Puente San Miguel\, featuring traditional music\, regional food\, and cultural reenactments. Government offices in Cantabria close for the day.
URL:https://publicholidaysin.com/spain/2020
STATUS:CONFIRMED
TRANSP:TRANSPARENT
END:VEVENT
BEGIN:VEVENT
UID:assumption-2020-08-15@publicholidaysin.com
DTSTAMP:20260420T212759Z
DTSTART;VALUE=DATE:20200815
DTEND;VALUE=DATE:20200816
SUMMARY:Asunción
DESCRIPTION:Assumption of Mary (Asunción de la Virgen)\n\nThe Assumption is a major Catholic feast marking the Virgin Mary’s ascent into heaven. Many towns host processions\, folk dances\, and summer fairs. It’s a national holiday - government offices\, schools\, and most shops are closed.
URL:https://publicholidaysin.com/spain/2020
STATUS:CONFIRMED
TRANSP:TRANSPARENT
END:VEVENT
BEGIN:VEVENT
UID:asturias_day-2020-09-08@publicholidaysin.com
DTSTAMP:20260420T212759Z
DTSTART;VALUE=DATE:20200908
DTEND;VALUE=DATE:20200909
SUMMARY:Día de Asturias
DESCRIPTION:Day of Asturias (Día de Asturias)\n\nHeld in early September\, this regional celebration honors Our Lady of Covadonga\, the patron saint of Asturias. Religious events\, concerts\, and cultural fairs take place in Covadonga and Oviedo. It’s a public holiday in Asturias.
URL:https://publicholidaysin.com/spain/2020
STATUS:CONFIRMED
TRANSP:TRANSPARENT
END:VEVENT
BEGIN:VEVENT
UID:catalonia_national_day-2020-09-11@publicholidaysin.com
DTSTAMP:20260420T212759Z
DTSTART;VALUE=DATE:20200911
DTEND;VALUE=DATE:20200912
SUMMARY:Diada Nacional de Catalunya
DESCRIPTION:National Day of Catalonia (Diada Nacional de Catalunya)\n\nCatalonia’s national day commemorates the fall of Barcelona in 1714 during the War of the Spanish Succession. Today it’s a day of regional pride and political expression\, with large rallies\, concerts\, and Catalan flag displays. Government offices and schools in Catalonia close.
URL:https://publicholidaysin.com/spain/2020
STATUS:CONFIRMED
TRANSP:TRANSPARENT
END:VEVENT
BEGIN:VEVENT
UID:bien_aparecida-2020-09-15@publicholidaysin.com
DTSTAMP:20260420T212759Z
DTSTART;VALUE=DATE:20200915
DTEND;VALUE=DATE:20200916
SUMMARY:Festividad de la Bien Aparecida
DESCRIPTION:Feast of Our Lady of Bien Aparecida (Festividad de la Bien Aparecida)\n\nCelebrated in Cantabria\, this day honors the region’s patron saint\, Our Lady of Bien Aparecida. Religious ceremonies and pilgrimages to her sanctuary near Ampuero mark the day. It’s a regional public holiday in Cantabria.
URL:https://publicholidaysin.com/spain/2020
STATUS:CONFIRMED
TRANSP:TRANSPARENT
END:VEVENT
BEGIN:VEVENT
UID:valencia_day-2020-10-09@publicholidaysin.com
DTSTAMP:20260420T212759Z
DTSTART;VALUE=DATE:20201009
DTEND;VALUE=DATE:20201010
SUMMARY:Dia de la Comunitat Valenciana
DESCRIPTION:Day of the Valencian Community (Día de la Comunitat Valenciana)\n\nThis day commemorates the Christian reconquest of Valencia by King James I in 1238. Parades\, fireworks\, and concerts fill Valencia’s streets\, and official ceremonies take place at the regional government building. It’s a public holiday in the Valencian Community.
URL:https://publicholidaysin.com/spain/2020
STATUS:CONFIRMED
TRANSP:TRANSPARENT
END:VEVENT
BEGIN:VEVENT
UID:national_day_spain-2020-10-12@publicholidaysin.com
DTSTAMP:20260420T212759Z
DTSTART;VALUE=DATE:20201012
DTEND;VALUE=DATE:20201013
SUMMARY:Fiesta Nacional de España
DESCRIPTION:National Day of Spain (Fiesta Nacional de España)\n\nSpain’s National Day\, also known as Hispanic Day\, commemorates Christopher Columbus’s arrival in the Americas in 1492. Madrid hosts a grand military parade attended by the royal family and government leaders. Offices\, schools\, and banks close nationwide\, while Spanish flags decorate public buildings.
URL:https://publicholidaysin.com/spain/2020
STATUS:CONFIRMED
TRANSP:TRANSPARENT
END:VEVENT
BEGIN:VEVENT
UID:all_saints-2020-11-01@publicholidaysin.com
DTSTAMP:20260420T212759Z
DTSTART;VALUE=DATE:20201101
DTEND;VALUE=DATE:20201102
SUMMARY:Día de todos los Santos
DESCRIPTION:All Saints’ Day (Día de Todos los Santos)\n\nA day of remembrance for the departed. Families visit cemeteries to clean and decorate graves with flowers\, especially chrysanthemums. Bakeries sell “huesos de santo” and “buñuelos de viento\,” traditional sweets linked to the occasion. It’s a national public holiday\, and most businesses close.
URL:https://publicholidaysin.com/spain/2020
STATUS:CONFIRMED
TRANSP:TRANSPARENT
END:VEVENT
BEGIN:VEVENT
UID:constitution_day-2020-12-06@publicholidaysin.com
DTSTAMP:20260420T212759Z
DTSTART;VALUE=DATE:20201206
DTEND;VALUE=DATE:20201207
SUMMARY:Día de la Constitución
DESCRIPTION:Constitution Day (Día de la Constitución)\n\nCommemorating the approval of Spain’s democratic constitution in 1978\, this holiday reflects the country’s modern democratic identity. Schools hold educational events about civic values. Government offices\, schools\, and many businesses close nationwide.
URL:https://publicholidaysin.com/spain/2020
STATUS:CONFIRMED
TRANSP:TRANSPARENT
END:VEVENT
BEGIN:VEVENT
UID:immaculate_conception-2020-12-08@publicholidaysin.com
DTSTAMP:20260420T212759Z
DTSTART;VALUE=DATE:20201208
DTEND;VALUE=DATE:20201209
SUMMARY:Inmaculada Concepción
DESCRIPTION:Immaculate Conception (Inmaculada Concepción)\n\nThis Catholic feast celebrates the Virgin Mary’s immaculate conception. In Seville\, it coincides with student celebrations marking the start of winter holidays. Churches hold special masses\, and some cities light up for early Christmas festivities. It’s a national public holiday with general closures.
URL:https://publicholidaysin.com/spain/2020
STATUS:CONFIRMED
TRANSP:TRANSPARENT
END:VEVENT
BEGIN:VEVENT
UID:christmas_day-2020-12-25@publicholidaysin.com
DTSTAMP:20260420T212759Z
DTSTART;VALUE=DATE:20201225
DTEND;VALUE=DATE:20201226
SUMMARY:Navidad
DESCRIPTION:Christmas Day (Navidad)\n\nChristmas in Spain centers on family\, food\, and faith. After attending midnight mass (La Misa del Gallo)\, families enjoy a festive dinner with seafood\, lamb\, and turrón (nougat). The next day is relaxed - shops and offices are closed as people stay home with family.
URL:https://publicholidaysin.com/spain/2020
STATUS:CONFIRMED
TRANSP:TRANSPARENT
END:VEVENT
BEGIN:VEVENT
UID:st_stephens_day-2020-12-26@publicholidaysin.com
DTSTAMP:20260420T212759Z
DTSTART;VALUE=DATE:20201226
DTEND;VALUE=DATE:20201227
SUMMARY:Feast of Saint Stephen
DESCRIPTION:St. Stephen’s Day (Sant Esteve / San Esteban)\n\nCelebrated mainly in Catalonia and the Balearic Islands\, St. Stephen’s Day continues the Christmas festivities. Families gather again to enjoy canelons (pasta rolls made from Christmas leftovers). Government offices and many shops in those regions close.
URL:https://publicholidaysin.com/spain/2020
STATUS:CONFIRMED
TRANSP:TRANSPARENT
END:VEVENT
END:VCALENDAR
