BEGIN:VCALENDAR
VERSION:2.0
PRODID:-//PublicHolidaysIn//Holiday Calendar//EN
CALSCALE:GREGORIAN
METHOD:PUBLISH
X-WR-CALNAME:Moldova Public Holidays 2073
X-WR-CALDESC:Public holidays in Moldova for 2073.
BEGIN:VEVENT
UID:New Year's Day-2073-01-01@publicholidaysin.com
DTSTAMP:20260423T115129Z
DTSTART;VALUE=DATE:20730101
DTEND;VALUE=DATE:20730102
SUMMARY:New Year's Day
DESCRIPTION:New Year’s Day in Moldova is a relaxed family holiday after midnight celebrations. Streets are quiet and many people spend the day visiting relatives or resting at home.
URL:https://publicholidaysin.com/moldova/2073
STATUS:CONFIRMED
TRANSP:TRANSPARENT
END:VEVENT
BEGIN:VEVENT
UID:Christmas Day (Orthodox)-2073-01-07@publicholidaysin.com
DTSTAMP:20260423T115129Z
DTSTART;VALUE=DATE:20730107
DTEND;VALUE=DATE:20730108
SUMMARY:Craciun pe stil Vechi (Orthodox Christmas)
DESCRIPTION:Orthodox Christmas on January 7 is a major religious holiday with church services\, festive meals\, and family gatherings.
URL:https://publicholidaysin.com/moldova/2073
STATUS:CONFIRMED
TRANSP:TRANSPARENT
END:VEVENT
BEGIN:VEVENT
UID:Christmas Day (Orthodox)-2073-01-08@publicholidaysin.com
DTSTAMP:20260423T115129Z
DTSTART;VALUE=DATE:20730108
DTEND;VALUE=DATE:20730109
SUMMARY:Craciun pe stil Vechi (Orthodox Christmas)
DESCRIPTION:Orthodox Christmas on January 7 is a major religious holiday with church services\, festive meals\, and family gatherings.
URL:https://publicholidaysin.com/moldova/2073
STATUS:CONFIRMED
TRANSP:TRANSPARENT
END:VEVENT
BEGIN:VEVENT
UID:Day of Veterans of the Armed Forces and Law Enforcement Agencies-2073-02-23@publicholidaysin.com
DTSTAMP:20260423T115129Z
DTSTART;VALUE=DATE:20730223
DTEND;VALUE=DATE:20730224
SUMMARY:Day of Veterans of the Armed Forces and Law Enforcement Agencies
DESCRIPTION:This is a public holiday in Moldova.
URL:https://publicholidaysin.com/moldova/2073
STATUS:CONFIRMED
TRANSP:TRANSPARENT
END:VEVENT
BEGIN:VEVENT
UID:International Women's Day-2073-03-08@publicholidaysin.com
DTSTAMP:20260423T115129Z
DTSTART;VALUE=DATE:20730308
DTEND;VALUE=DATE:20730309
SUMMARY:International Women's Day
DESCRIPTION:International Women’s Day is widely celebrated with flowers\, gifts\, and family dinners. It is one of Moldova’s most popular social holidays.
URL:https://publicholidaysin.com/moldova/2073
STATUS:CONFIRMED
TRANSP:TRANSPARENT
END:VEVENT
BEGIN:VEVENT
UID:Easter Sunday-2073-04-30@publicholidaysin.com
DTSTAMP:20260423T115129Z
DTSTART;VALUE=DATE:20730430
DTEND;VALUE=DATE:20730501
SUMMARY:Orthodox Easter
DESCRIPTION:Orthodox Easter Sunday is the most important Christian holiday in Moldova. Families attend midnight services and share traditional праздничный meals.
URL:https://publicholidaysin.com/moldova/2073
STATUS:CONFIRMED
TRANSP:TRANSPARENT
END:VEVENT
BEGIN:VEVENT
UID:Labour Day (Moldova)-2073-05-01@publicholidaysin.com
DTSTAMP:20260423T115129Z
DTSTART;VALUE=DATE:20730501
DTEND;VALUE=DATE:20730502
SUMMARY:Labour Day (Moldova)
DESCRIPTION:Labour Day is marked by public events and family outings. Many people use the day for a spring break or travel.
URL:https://publicholidaysin.com/moldova/2073
STATUS:CONFIRMED
TRANSP:TRANSPARENT
END:VEVENT
BEGIN:VEVENT
UID:Victory and Commemoration Day-2073-05-09@publicholidaysin.com
DTSTAMP:20260423T115129Z
DTSTART;VALUE=DATE:20730509
DTEND;VALUE=DATE:20730510
SUMMARY:Victory and Commemoration Day
DESCRIPTION:Victory Day commemorates the end of World War II with ceremonies\, parades\, and remembrance events across the country.
URL:https://publicholidaysin.com/moldova/2073
STATUS:CONFIRMED
TRANSP:TRANSPARENT
END:VEVENT
BEGIN:VEVENT
UID:Bălţi Day-2073-05-22@publicholidaysin.com
DTSTAMP:20260423T115129Z
DTSTART;VALUE=DATE:20730522
DTEND;VALUE=DATE:20730523
SUMMARY:Bălţi Day
DESCRIPTION:This is a public holiday in Moldova.
URL:https://publicholidaysin.com/moldova/2073
STATUS:CONFIRMED
TRANSP:TRANSPARENT
END:VEVENT
BEGIN:VEVENT
UID:Independence Day (Moldova)-2073-08-27@publicholidaysin.com
DTSTAMP:20260423T115129Z
DTSTART;VALUE=DATE:20730827
DTEND;VALUE=DATE:20730828
SUMMARY:Independence Day
DESCRIPTION:Independence Day on August 27 is one of Moldova’s most festive national holidays\, featuring concerts\, fireworks\, and official ceremonies.
URL:https://publicholidaysin.com/moldova/2073
STATUS:CONFIRMED
TRANSP:TRANSPARENT
END:VEVENT
BEGIN:VEVENT
UID:Memorial Day-2073-08-28@publicholidaysin.com
DTSTAMP:20260423T115129Z
DTSTART;VALUE=DATE:20730828
DTEND;VALUE=DATE:20730829
SUMMARY:Memorial Day
DESCRIPTION:This is a public holiday in Moldova.
URL:https://publicholidaysin.com/moldova/2073
STATUS:CONFIRMED
TRANSP:TRANSPARENT
END:VEVENT
BEGIN:VEVENT
UID:Limba Noastra (National Language Day)-2073-08-31@publicholidaysin.com
DTSTAMP:20260423T115129Z
DTSTART;VALUE=DATE:20730831
DTEND;VALUE=DATE:20730901
SUMMARY:Limba Noastra
DESCRIPTION:National Language Day (Limba Noastră) celebrates the Romanian language and Moldovan cultural identity with literary events and concerts.
URL:https://publicholidaysin.com/moldova/2073
STATUS:CONFIRMED
TRANSP:TRANSPARENT
END:VEVENT
BEGIN:VEVENT
UID:Day of the Moldovan National Army-2073-09-03@publicholidaysin.com
DTSTAMP:20260423T115129Z
DTSTART;VALUE=DATE:20730903
DTEND;VALUE=DATE:20730904
SUMMARY:Day of the Moldovan National Army
DESCRIPTION:This is a public holiday in Moldova.
URL:https://publicholidaysin.com/moldova/2073
STATUS:CONFIRMED
TRANSP:TRANSPARENT
END:VEVENT
BEGIN:VEVENT
UID:Capital's Day-2073-10-14@publicholidaysin.com
DTSTAMP:20260423T115129Z
DTSTART;VALUE=DATE:20731014
DTEND;VALUE=DATE:20731015
SUMMARY:Capital's Day
DESCRIPTION:This is a public holiday in Moldova.
URL:https://publicholidaysin.com/moldova/2073
STATUS:CONFIRMED
TRANSP:TRANSPARENT
END:VEVENT
BEGIN:VEVENT
UID:South Capital's Day Cahul-2073-11-21@publicholidaysin.com
DTSTAMP:20260423T115129Z
DTSTART;VALUE=DATE:20731121
DTEND;VALUE=DATE:20731122
SUMMARY:South Capital's Day Cahul
DESCRIPTION:This is a public holiday in Moldova.
URL:https://publicholidaysin.com/moldova/2073
STATUS:CONFIRMED
TRANSP:TRANSPARENT
END:VEVENT
BEGIN:VEVENT
UID:Christmas Day-2073-12-25@publicholidaysin.com
DTSTAMP:20260423T115129Z
DTSTART;VALUE=DATE:20731225
DTEND;VALUE=DATE:20731226
SUMMARY:Craciun pe stil Nou (Western Christmas)
DESCRIPTION:Christmas Day on December 25 is observed by many families and churches. It is a peaceful holiday centered on faith and family meals.
URL:https://publicholidaysin.com/moldova/2073
STATUS:CONFIRMED
TRANSP:TRANSPARENT
END:VEVENT
END:VCALENDAR
