BEGIN:VCALENDAR
VERSION:2.0
PRODID:-//PublicHolidaysIn//Holiday Calendar//EN
CALSCALE:GREGORIAN
METHOD:PUBLISH
X-WR-CALNAME:Moldova Public Holidays 2057
X-WR-CALDESC:Public holidays in Moldova for 2057.
BEGIN:VEVENT
UID:New Year's Day-2057-01-01@publicholidaysin.com
DTSTAMP:20260422T123650Z
DTSTART;VALUE=DATE:20570101
DTEND;VALUE=DATE:20570102
SUMMARY:New Year's Day
DESCRIPTION:New Year’s Day in Moldova is a relaxed family holiday after midnight celebrations. Streets are quiet and many people spend the day visiting relatives or resting at home.
URL:https://publicholidaysin.com/moldova/2057
STATUS:CONFIRMED
TRANSP:TRANSPARENT
END:VEVENT
BEGIN:VEVENT
UID:Christmas Day (Orthodox)-2057-01-07@publicholidaysin.com
DTSTAMP:20260422T123650Z
DTSTART;VALUE=DATE:20570107
DTEND;VALUE=DATE:20570108
SUMMARY:Craciun pe stil Vechi (Orthodox Christmas)
DESCRIPTION:Orthodox Christmas on January 7 is a major religious holiday with church services\, festive meals\, and family gatherings.
URL:https://publicholidaysin.com/moldova/2057
STATUS:CONFIRMED
TRANSP:TRANSPARENT
END:VEVENT
BEGIN:VEVENT
UID:Christmas Day (Orthodox)-2057-01-08@publicholidaysin.com
DTSTAMP:20260422T123650Z
DTSTART;VALUE=DATE:20570108
DTEND;VALUE=DATE:20570109
SUMMARY:Craciun pe stil Vechi (Orthodox Christmas)
DESCRIPTION:Orthodox Christmas on January 7 is a major religious holiday with church services\, festive meals\, and family gatherings.
URL:https://publicholidaysin.com/moldova/2057
STATUS:CONFIRMED
TRANSP:TRANSPARENT
END:VEVENT
BEGIN:VEVENT
UID:Day of Veterans of the Armed Forces and Law Enforcement Agencies-2057-02-23@publicholidaysin.com
DTSTAMP:20260422T123650Z
DTSTART;VALUE=DATE:20570223
DTEND;VALUE=DATE:20570224
SUMMARY:Day of Veterans of the Armed Forces and Law Enforcement Agencies
DESCRIPTION:This is a public holiday in Moldova.
URL:https://publicholidaysin.com/moldova/2057
STATUS:CONFIRMED
TRANSP:TRANSPARENT
END:VEVENT
BEGIN:VEVENT
UID:International Women's Day-2057-03-08@publicholidaysin.com
DTSTAMP:20260422T123650Z
DTSTART;VALUE=DATE:20570308
DTEND;VALUE=DATE:20570309
SUMMARY:International Women's Day
DESCRIPTION:International Women’s Day is widely celebrated with flowers\, gifts\, and family dinners. It is one of Moldova’s most popular social holidays.
URL:https://publicholidaysin.com/moldova/2057
STATUS:CONFIRMED
TRANSP:TRANSPARENT
END:VEVENT
BEGIN:VEVENT
UID:Easter Sunday-2057-04-29@publicholidaysin.com
DTSTAMP:20260422T123650Z
DTSTART;VALUE=DATE:20570429
DTEND;VALUE=DATE:20570430
SUMMARY:Orthodox Easter
DESCRIPTION:Orthodox Easter Sunday is the most important Christian holiday in Moldova. Families attend midnight services and share traditional праздничный meals.
URL:https://publicholidaysin.com/moldova/2057
STATUS:CONFIRMED
TRANSP:TRANSPARENT
END:VEVENT
BEGIN:VEVENT
UID:Labour Day (Moldova)-2057-05-01@publicholidaysin.com
DTSTAMP:20260422T123650Z
DTSTART;VALUE=DATE:20570501
DTEND;VALUE=DATE:20570502
SUMMARY:Labour Day (Moldova)
DESCRIPTION:Labour Day is marked by public events and family outings. Many people use the day for a spring break or travel.
URL:https://publicholidaysin.com/moldova/2057
STATUS:CONFIRMED
TRANSP:TRANSPARENT
END:VEVENT
BEGIN:VEVENT
UID:Victory and Commemoration Day-2057-05-09@publicholidaysin.com
DTSTAMP:20260422T123650Z
DTSTART;VALUE=DATE:20570509
DTEND;VALUE=DATE:20570510
SUMMARY:Victory and Commemoration Day
DESCRIPTION:Victory Day commemorates the end of World War II with ceremonies\, parades\, and remembrance events across the country.
URL:https://publicholidaysin.com/moldova/2057
STATUS:CONFIRMED
TRANSP:TRANSPARENT
END:VEVENT
BEGIN:VEVENT
UID:Bălţi Day-2057-05-22@publicholidaysin.com
DTSTAMP:20260422T123650Z
DTSTART;VALUE=DATE:20570522
DTEND;VALUE=DATE:20570523
SUMMARY:Bălţi Day
DESCRIPTION:This is a public holiday in Moldova.
URL:https://publicholidaysin.com/moldova/2057
STATUS:CONFIRMED
TRANSP:TRANSPARENT
END:VEVENT
BEGIN:VEVENT
UID:Memorial Day-2057-08-27@publicholidaysin.com
DTSTAMP:20260422T123650Z
DTSTART;VALUE=DATE:20570827
DTEND;VALUE=DATE:20570828
SUMMARY:Memorial Day
DESCRIPTION:This is a public holiday in Moldova.
URL:https://publicholidaysin.com/moldova/2057
STATUS:CONFIRMED
TRANSP:TRANSPARENT
END:VEVENT
BEGIN:VEVENT
UID:Limba Noastra (National Language Day)-2057-08-31@publicholidaysin.com
DTSTAMP:20260422T123650Z
DTSTART;VALUE=DATE:20570831
DTEND;VALUE=DATE:20570901
SUMMARY:Limba Noastra
DESCRIPTION:National Language Day (Limba Noastră) celebrates the Romanian language and Moldovan cultural identity with literary events and concerts.
URL:https://publicholidaysin.com/moldova/2057
STATUS:CONFIRMED
TRANSP:TRANSPARENT
END:VEVENT
BEGIN:VEVENT
UID:Day of the Moldovan National Army-2057-09-03@publicholidaysin.com
DTSTAMP:20260422T123650Z
DTSTART;VALUE=DATE:20570903
DTEND;VALUE=DATE:20570904
SUMMARY:Day of the Moldovan National Army
DESCRIPTION:This is a public holiday in Moldova.
URL:https://publicholidaysin.com/moldova/2057
STATUS:CONFIRMED
TRANSP:TRANSPARENT
END:VEVENT
BEGIN:VEVENT
UID:Capital's Day-2057-10-14@publicholidaysin.com
DTSTAMP:20260422T123650Z
DTSTART;VALUE=DATE:20571014
DTEND;VALUE=DATE:20571015
SUMMARY:Capital's Day
DESCRIPTION:This is a public holiday in Moldova.
URL:https://publicholidaysin.com/moldova/2057
STATUS:CONFIRMED
TRANSP:TRANSPARENT
END:VEVENT
BEGIN:VEVENT
UID:South Capital's Day Cahul-2057-11-21@publicholidaysin.com
DTSTAMP:20260422T123650Z
DTSTART;VALUE=DATE:20571121
DTEND;VALUE=DATE:20571122
SUMMARY:South Capital's Day Cahul
DESCRIPTION:This is a public holiday in Moldova.
URL:https://publicholidaysin.com/moldova/2057
STATUS:CONFIRMED
TRANSP:TRANSPARENT
END:VEVENT
BEGIN:VEVENT
UID:Christmas Day-2057-12-25@publicholidaysin.com
DTSTAMP:20260422T123650Z
DTSTART;VALUE=DATE:20571225
DTEND;VALUE=DATE:20571226
SUMMARY:Craciun pe stil Nou (Western Christmas)
DESCRIPTION:Christmas Day on December 25 is observed by many families and churches. It is a peaceful holiday centered on faith and family meals.
URL:https://publicholidaysin.com/moldova/2057
STATUS:CONFIRMED
TRANSP:TRANSPARENT
END:VEVENT
END:VCALENDAR
