BEGIN:VCALENDAR
VERSION:2.0
PRODID:-//PublicHolidaysIn//Holiday Calendar//EN
CALSCALE:GREGORIAN
METHOD:PUBLISH
X-WR-CALNAME:Moldova Public Holidays 2049
X-WR-CALDESC:Public holidays in Moldova for 2049.
BEGIN:VEVENT
UID:New Year's Day-2049-01-01@publicholidaysin.com
DTSTAMP:20260421T233906Z
DTSTART;VALUE=DATE:20490101
DTEND;VALUE=DATE:20490102
SUMMARY:New Year's Day
DESCRIPTION:New Year’s Day in Moldova is a relaxed family holiday after midnight celebrations. Streets are quiet and many people spend the day visiting relatives or resting at home.
URL:https://publicholidaysin.com/moldova/2049
STATUS:CONFIRMED
TRANSP:TRANSPARENT
END:VEVENT
BEGIN:VEVENT
UID:Christmas Day (Orthodox)-2049-01-07@publicholidaysin.com
DTSTAMP:20260421T233906Z
DTSTART;VALUE=DATE:20490107
DTEND;VALUE=DATE:20490108
SUMMARY:Craciun pe stil Vechi (Orthodox Christmas)
DESCRIPTION:Orthodox Christmas on January 7 is a major religious holiday with church services\, festive meals\, and family gatherings.
URL:https://publicholidaysin.com/moldova/2049
STATUS:CONFIRMED
TRANSP:TRANSPARENT
END:VEVENT
BEGIN:VEVENT
UID:Christmas Day (Orthodox)-2049-01-08@publicholidaysin.com
DTSTAMP:20260421T233906Z
DTSTART;VALUE=DATE:20490108
DTEND;VALUE=DATE:20490109
SUMMARY:Craciun pe stil Vechi (Orthodox Christmas)
DESCRIPTION:Orthodox Christmas on January 7 is a major religious holiday with church services\, festive meals\, and family gatherings.
URL:https://publicholidaysin.com/moldova/2049
STATUS:CONFIRMED
TRANSP:TRANSPARENT
END:VEVENT
BEGIN:VEVENT
UID:Day of Veterans of the Armed Forces and Law Enforcement Agencies-2049-02-23@publicholidaysin.com
DTSTAMP:20260421T233906Z
DTSTART;VALUE=DATE:20490223
DTEND;VALUE=DATE:20490224
SUMMARY:Day of Veterans of the Armed Forces and Law Enforcement Agencies
DESCRIPTION:This is a public holiday in Moldova.
URL:https://publicholidaysin.com/moldova/2049
STATUS:CONFIRMED
TRANSP:TRANSPARENT
END:VEVENT
BEGIN:VEVENT
UID:International Women's Day-2049-03-08@publicholidaysin.com
DTSTAMP:20260421T233906Z
DTSTART;VALUE=DATE:20490308
DTEND;VALUE=DATE:20490309
SUMMARY:International Women's Day
DESCRIPTION:International Women’s Day is widely celebrated with flowers\, gifts\, and family dinners. It is one of Moldova’s most popular social holidays.
URL:https://publicholidaysin.com/moldova/2049
STATUS:CONFIRMED
TRANSP:TRANSPARENT
END:VEVENT
BEGIN:VEVENT
UID:Easter Sunday-2049-04-25@publicholidaysin.com
DTSTAMP:20260421T233906Z
DTSTART;VALUE=DATE:20490425
DTEND;VALUE=DATE:20490426
SUMMARY:Orthodox Easter
DESCRIPTION:Orthodox Easter Sunday is the most important Christian holiday in Moldova. Families attend midnight services and share traditional праздничный meals.
URL:https://publicholidaysin.com/moldova/2049
STATUS:CONFIRMED
TRANSP:TRANSPARENT
END:VEVENT
BEGIN:VEVENT
UID:Labour Day (Moldova)-2049-05-01@publicholidaysin.com
DTSTAMP:20260421T233906Z
DTSTART;VALUE=DATE:20490501
DTEND;VALUE=DATE:20490502
SUMMARY:Labour Day (Moldova)
DESCRIPTION:Labour Day is marked by public events and family outings. Many people use the day for a spring break or travel.
URL:https://publicholidaysin.com/moldova/2049
STATUS:CONFIRMED
TRANSP:TRANSPARENT
END:VEVENT
BEGIN:VEVENT
UID:Victory and Commemoration Day-2049-05-09@publicholidaysin.com
DTSTAMP:20260421T233906Z
DTSTART;VALUE=DATE:20490509
DTEND;VALUE=DATE:20490510
SUMMARY:Victory and Commemoration Day
DESCRIPTION:Victory Day commemorates the end of World War II with ceremonies\, parades\, and remembrance events across the country.
URL:https://publicholidaysin.com/moldova/2049
STATUS:CONFIRMED
TRANSP:TRANSPARENT
END:VEVENT
BEGIN:VEVENT
UID:Bălţi Day-2049-05-22@publicholidaysin.com
DTSTAMP:20260421T233906Z
DTSTART;VALUE=DATE:20490522
DTEND;VALUE=DATE:20490523
SUMMARY:Bălţi Day
DESCRIPTION:This is a public holiday in Moldova.
URL:https://publicholidaysin.com/moldova/2049
STATUS:CONFIRMED
TRANSP:TRANSPARENT
END:VEVENT
BEGIN:VEVENT
UID:Independence Day (Moldova)-2049-08-27@publicholidaysin.com
DTSTAMP:20260421T233906Z
DTSTART;VALUE=DATE:20490827
DTEND;VALUE=DATE:20490828
SUMMARY:Independence Day
DESCRIPTION:Independence Day on August 27 is one of Moldova’s most festive national holidays\, featuring concerts\, fireworks\, and official ceremonies.
URL:https://publicholidaysin.com/moldova/2049
STATUS:CONFIRMED
TRANSP:TRANSPARENT
END:VEVENT
BEGIN:VEVENT
UID:Memorial Day-2049-08-30@publicholidaysin.com
DTSTAMP:20260421T233906Z
DTSTART;VALUE=DATE:20490830
DTEND;VALUE=DATE:20490831
SUMMARY:Memorial Day
DESCRIPTION:This is a public holiday in Moldova.
URL:https://publicholidaysin.com/moldova/2049
STATUS:CONFIRMED
TRANSP:TRANSPARENT
END:VEVENT
BEGIN:VEVENT
UID:Limba Noastra (National Language Day)-2049-08-31@publicholidaysin.com
DTSTAMP:20260421T233906Z
DTSTART;VALUE=DATE:20490831
DTEND;VALUE=DATE:20490901
SUMMARY:Limba Noastra
DESCRIPTION:National Language Day (Limba Noastră) celebrates the Romanian language and Moldovan cultural identity with literary events and concerts.
URL:https://publicholidaysin.com/moldova/2049
STATUS:CONFIRMED
TRANSP:TRANSPARENT
END:VEVENT
BEGIN:VEVENT
UID:Day of the Moldovan National Army-2049-09-03@publicholidaysin.com
DTSTAMP:20260421T233906Z
DTSTART;VALUE=DATE:20490903
DTEND;VALUE=DATE:20490904
SUMMARY:Day of the Moldovan National Army
DESCRIPTION:This is a public holiday in Moldova.
URL:https://publicholidaysin.com/moldova/2049
STATUS:CONFIRMED
TRANSP:TRANSPARENT
END:VEVENT
BEGIN:VEVENT
UID:Capital's Day-2049-10-14@publicholidaysin.com
DTSTAMP:20260421T233906Z
DTSTART;VALUE=DATE:20491014
DTEND;VALUE=DATE:20491015
SUMMARY:Capital's Day
DESCRIPTION:This is a public holiday in Moldova.
URL:https://publicholidaysin.com/moldova/2049
STATUS:CONFIRMED
TRANSP:TRANSPARENT
END:VEVENT
BEGIN:VEVENT
UID:South Capital's Day Cahul-2049-11-21@publicholidaysin.com
DTSTAMP:20260421T233906Z
DTSTART;VALUE=DATE:20491121
DTEND;VALUE=DATE:20491122
SUMMARY:South Capital's Day Cahul
DESCRIPTION:This is a public holiday in Moldova.
URL:https://publicholidaysin.com/moldova/2049
STATUS:CONFIRMED
TRANSP:TRANSPARENT
END:VEVENT
BEGIN:VEVENT
UID:Christmas Day-2049-12-25@publicholidaysin.com
DTSTAMP:20260421T233906Z
DTSTART;VALUE=DATE:20491225
DTEND;VALUE=DATE:20491226
SUMMARY:Craciun pe stil Nou (Western Christmas)
DESCRIPTION:Christmas Day on December 25 is observed by many families and churches. It is a peaceful holiday centered on faith and family meals.
URL:https://publicholidaysin.com/moldova/2049
STATUS:CONFIRMED
TRANSP:TRANSPARENT
END:VEVENT
END:VCALENDAR
