BEGIN:VCALENDAR
VERSION:2.0
PRODID:-//PublicHolidaysIn//Holiday Calendar//EN
CALSCALE:GREGORIAN
METHOD:PUBLISH
X-WR-CALNAME:Moldova Public Holidays 2027
X-WR-CALDESC:Public holidays in Moldova for 2027.
BEGIN:VEVENT
UID:New Year's Day-2027-01-01@publicholidaysin.com
DTSTAMP:20260420T131303Z
DTSTART;VALUE=DATE:20270101
DTEND;VALUE=DATE:20270102
SUMMARY:New Year's Day
DESCRIPTION:New Year’s Day in Moldova is a relaxed family holiday after midnight celebrations. Streets are quiet and many people spend the day visiting relatives or resting at home.
URL:https://publicholidaysin.com/moldova/2027
STATUS:CONFIRMED
TRANSP:TRANSPARENT
END:VEVENT
BEGIN:VEVENT
UID:Orthodox Christmas Day-2027-01-07@publicholidaysin.com
DTSTAMP:20260420T131303Z
DTSTART;VALUE=DATE:20270107
DTEND;VALUE=DATE:20270108
SUMMARY:Orthodox Christmas Day
DESCRIPTION:Orthodox Christmas on January 7 is a major religious holiday with church services\, festive meals\, and family gatherings.
URL:https://publicholidaysin.com/moldova/2027
STATUS:CONFIRMED
TRANSP:TRANSPARENT
END:VEVENT
BEGIN:VEVENT
UID:Orthodox Christmas Holiday-2027-01-08@publicholidaysin.com
DTSTAMP:20260420T131303Z
DTSTART;VALUE=DATE:20270108
DTEND;VALUE=DATE:20270109
SUMMARY:Orthodox Christmas Holiday
DESCRIPTION:The second day of Orthodox Christmas extends the celebrations with more family visits and a continued festive atmosphere.
URL:https://publicholidaysin.com/moldova/2027
STATUS:CONFIRMED
TRANSP:TRANSPARENT
END:VEVENT
BEGIN:VEVENT
UID:International Women's Day-2027-03-08@publicholidaysin.com
DTSTAMP:20260420T131303Z
DTSTART;VALUE=DATE:20270308
DTEND;VALUE=DATE:20270309
SUMMARY:International Women's Day
DESCRIPTION:International Women’s Day is widely celebrated with flowers\, gifts\, and family dinners. It is one of Moldova’s most popular social holidays.
URL:https://publicholidaysin.com/moldova/2027
STATUS:CONFIRMED
TRANSP:TRANSPARENT
END:VEVENT
BEGIN:VEVENT
UID:Labour Day-2027-05-01@publicholidaysin.com
DTSTAMP:20260420T131303Z
DTSTART;VALUE=DATE:20270501
DTEND;VALUE=DATE:20270502
SUMMARY:Labour Day
DESCRIPTION:Labour Day is marked by public events and family outings. Many people use the day for a spring break or travel.
URL:https://publicholidaysin.com/moldova/2027
STATUS:CONFIRMED
TRANSP:TRANSPARENT
END:VEVENT
BEGIN:VEVENT
UID:Orthodox Easter Sunday-2027-05-02@publicholidaysin.com
DTSTAMP:20260420T131303Z
DTSTART;VALUE=DATE:20270502
DTEND;VALUE=DATE:20270503
SUMMARY:Orthodox Easter Sunday
DESCRIPTION:Orthodox Easter Sunday is the most important Christian holiday in Moldova. Families attend midnight services and share traditional праздничный meals.
URL:https://publicholidaysin.com/moldova/2027
STATUS:CONFIRMED
TRANSP:TRANSPARENT
END:VEVENT
BEGIN:VEVENT
UID:Orthodox Easter Monday-2027-05-03@publicholidaysin.com
DTSTAMP:20260420T131303Z
DTSTART;VALUE=DATE:20270503
DTEND;VALUE=DATE:20270504
SUMMARY:Orthodox Easter Monday
DESCRIPTION:Orthodox Easter Monday continues the celebrations with relaxed gatherings\, visiting relatives\, and festive meals.
URL:https://publicholidaysin.com/moldova/2027
STATUS:CONFIRMED
TRANSP:TRANSPARENT
END:VEVENT
BEGIN:VEVENT
UID:Victory Day-2027-05-09@publicholidaysin.com
DTSTAMP:20260420T131303Z
DTSTART;VALUE=DATE:20270509
DTEND;VALUE=DATE:20270510
SUMMARY:Victory Day
DESCRIPTION:Victory Day commemorates the end of World War II with ceremonies\, parades\, and remembrance events across the country.
URL:https://publicholidaysin.com/moldova/2027
STATUS:CONFIRMED
TRANSP:TRANSPARENT
END:VEVENT
BEGIN:VEVENT
UID:Memorial Day (Radonitsa)-2027-05-11@publicholidaysin.com
DTSTAMP:20260420T131303Z
DTSTART;VALUE=DATE:20270511
DTEND;VALUE=DATE:20270512
SUMMARY:Memorial Day (Radonitsa)
DESCRIPTION:Radunitsa (Memorial Day) is a day to honor deceased loved ones. Families visit cemeteries with flowers and food\, combining remembrance with tradition.
URL:https://publicholidaysin.com/moldova/2027
STATUS:CONFIRMED
TRANSP:TRANSPARENT
END:VEVENT
BEGIN:VEVENT
UID:Children's Day-2027-06-01@publicholidaysin.com
DTSTAMP:20260420T131303Z
DTSTART;VALUE=DATE:20270601
DTEND;VALUE=DATE:20270602
SUMMARY:Children's Day
DESCRIPTION:Children’s Day on June 1 celebrates youth with events\, performances\, and family activities in parks and public spaces.
URL:https://publicholidaysin.com/moldova/2027
STATUS:CONFIRMED
TRANSP:TRANSPARENT
END:VEVENT
BEGIN:VEVENT
UID:Independence Day-2027-08-27@publicholidaysin.com
DTSTAMP:20260420T131303Z
DTSTART;VALUE=DATE:20270827
DTEND;VALUE=DATE:20270828
SUMMARY:Independence Day
DESCRIPTION:Independence Day on August 27 is one of Moldova’s most festive national holidays\, featuring concerts\, fireworks\, and official ceremonies.
URL:https://publicholidaysin.com/moldova/2027
STATUS:CONFIRMED
TRANSP:TRANSPARENT
END:VEVENT
BEGIN:VEVENT
UID:National Language Day-2027-08-31@publicholidaysin.com
DTSTAMP:20260420T131303Z
DTSTART;VALUE=DATE:20270831
DTEND;VALUE=DATE:20270901
SUMMARY:National Language Day
DESCRIPTION:National Language Day (Limba Noastră) celebrates the Romanian language and Moldovan cultural identity with literary events and concerts.
URL:https://publicholidaysin.com/moldova/2027
STATUS:CONFIRMED
TRANSP:TRANSPARENT
END:VEVENT
BEGIN:VEVENT
UID:Christmas Day-2027-12-25@publicholidaysin.com
DTSTAMP:20260420T131303Z
DTSTART;VALUE=DATE:20271225
DTEND;VALUE=DATE:20271226
SUMMARY:Christmas Day
DESCRIPTION:Christmas Day on December 25 is observed by many families and churches. It is a peaceful holiday centered on faith and family meals.
URL:https://publicholidaysin.com/moldova/2027
STATUS:CONFIRMED
TRANSP:TRANSPARENT
END:VEVENT
END:VCALENDAR
