BEGIN:VCALENDAR
VERSION:2.0
PRODID:-//PublicHolidaysIn//Holiday Calendar//EN
CALSCALE:GREGORIAN
METHOD:PUBLISH
X-WR-CALNAME:Moldova Public Holidays 2015
X-WR-CALDESC:Public holidays in Moldova for 2015.
BEGIN:VEVENT
UID:New Year's Day-2015-01-01@publicholidaysin.com
DTSTAMP:20260421T054217Z
DTSTART;VALUE=DATE:20150101
DTEND;VALUE=DATE:20150102
SUMMARY:New Year's Day
DESCRIPTION:New Year’s Day in Moldova is a relaxed family holiday after midnight celebrations. Streets are quiet and many people spend the day visiting relatives or resting at home.
URL:https://publicholidaysin.com/moldova/2015
STATUS:CONFIRMED
TRANSP:TRANSPARENT
END:VEVENT
BEGIN:VEVENT
UID:Christmas Day (Orthodox)-2015-01-07@publicholidaysin.com
DTSTAMP:20260421T054217Z
DTSTART;VALUE=DATE:20150107
DTEND;VALUE=DATE:20150108
SUMMARY:Craciun pe stil Vechi (Orthodox Christmas)
DESCRIPTION:Orthodox Christmas on January 7 is a major religious holiday with church services\, festive meals\, and family gatherings.
URL:https://publicholidaysin.com/moldova/2015
STATUS:CONFIRMED
TRANSP:TRANSPARENT
END:VEVENT
BEGIN:VEVENT
UID:Christmas Day (Orthodox)-2015-01-08@publicholidaysin.com
DTSTAMP:20260421T054217Z
DTSTART;VALUE=DATE:20150108
DTEND;VALUE=DATE:20150109
SUMMARY:Craciun pe stil Vechi (Orthodox Christmas)
DESCRIPTION:Orthodox Christmas on January 7 is a major religious holiday with church services\, festive meals\, and family gatherings.
URL:https://publicholidaysin.com/moldova/2015
STATUS:CONFIRMED
TRANSP:TRANSPARENT
END:VEVENT
BEGIN:VEVENT
UID:Day of Veterans of the Armed Forces and Law Enforcement Agencies-2015-02-23@publicholidaysin.com
DTSTAMP:20260421T054217Z
DTSTART;VALUE=DATE:20150223
DTEND;VALUE=DATE:20150224
SUMMARY:Day of Veterans of the Armed Forces and Law Enforcement Agencies
DESCRIPTION:This is a public holiday in Moldova.
URL:https://publicholidaysin.com/moldova/2015
STATUS:CONFIRMED
TRANSP:TRANSPARENT
END:VEVENT
BEGIN:VEVENT
UID:International Women's Day-2015-03-08@publicholidaysin.com
DTSTAMP:20260421T054217Z
DTSTART;VALUE=DATE:20150308
DTEND;VALUE=DATE:20150309
SUMMARY:International Women's Day
DESCRIPTION:International Women’s Day is widely celebrated with flowers\, gifts\, and family dinners. It is one of Moldova’s most popular social holidays.
URL:https://publicholidaysin.com/moldova/2015
STATUS:CONFIRMED
TRANSP:TRANSPARENT
END:VEVENT
BEGIN:VEVENT
UID:Easter Sunday-2015-04-12@publicholidaysin.com
DTSTAMP:20260421T054217Z
DTSTART;VALUE=DATE:20150412
DTEND;VALUE=DATE:20150413
SUMMARY:Orthodox Easter
DESCRIPTION:Orthodox Easter Sunday is the most important Christian holiday in Moldova. Families attend midnight services and share traditional праздничный meals.
URL:https://publicholidaysin.com/moldova/2015
STATUS:CONFIRMED
TRANSP:TRANSPARENT
END:VEVENT
BEGIN:VEVENT
UID:Labour Day (Moldova)-2015-05-01@publicholidaysin.com
DTSTAMP:20260421T054217Z
DTSTART;VALUE=DATE:20150501
DTEND;VALUE=DATE:20150502
SUMMARY:Labour Day (Moldova)
DESCRIPTION:Labour Day is marked by public events and family outings. Many people use the day for a spring break or travel.
URL:https://publicholidaysin.com/moldova/2015
STATUS:CONFIRMED
TRANSP:TRANSPARENT
END:VEVENT
BEGIN:VEVENT
UID:Victory and Commemoration Day-2015-05-09@publicholidaysin.com
DTSTAMP:20260421T054217Z
DTSTART;VALUE=DATE:20150509
DTEND;VALUE=DATE:20150510
SUMMARY:Victory and Commemoration Day
DESCRIPTION:Victory Day commemorates the end of World War II with ceremonies\, parades\, and remembrance events across the country.
URL:https://publicholidaysin.com/moldova/2015
STATUS:CONFIRMED
TRANSP:TRANSPARENT
END:VEVENT
BEGIN:VEVENT
UID:Bălţi Day-2015-05-22@publicholidaysin.com
DTSTAMP:20260421T054217Z
DTSTART;VALUE=DATE:20150522
DTEND;VALUE=DATE:20150523
SUMMARY:Bălţi Day
DESCRIPTION:This is a public holiday in Moldova.
URL:https://publicholidaysin.com/moldova/2015
STATUS:CONFIRMED
TRANSP:TRANSPARENT
END:VEVENT
BEGIN:VEVENT
UID:Independence Day (Moldova)-2015-08-27@publicholidaysin.com
DTSTAMP:20260421T054217Z
DTSTART;VALUE=DATE:20150827
DTEND;VALUE=DATE:20150828
SUMMARY:Independence Day
DESCRIPTION:Independence Day on August 27 is one of Moldova’s most festive national holidays\, featuring concerts\, fireworks\, and official ceremonies.
URL:https://publicholidaysin.com/moldova/2015
STATUS:CONFIRMED
TRANSP:TRANSPARENT
END:VEVENT
BEGIN:VEVENT
UID:Memorial Day-2015-08-31@publicholidaysin.com
DTSTAMP:20260421T054217Z
DTSTART;VALUE=DATE:20150831
DTEND;VALUE=DATE:20150901
SUMMARY:Memorial Day
DESCRIPTION:This is a public holiday in Moldova.
URL:https://publicholidaysin.com/moldova/2015
STATUS:CONFIRMED
TRANSP:TRANSPARENT
END:VEVENT
BEGIN:VEVENT
UID:Day of the Moldovan National Army-2015-09-03@publicholidaysin.com
DTSTAMP:20260421T054217Z
DTSTART;VALUE=DATE:20150903
DTEND;VALUE=DATE:20150904
SUMMARY:Day of the Moldovan National Army
DESCRIPTION:This is a public holiday in Moldova.
URL:https://publicholidaysin.com/moldova/2015
STATUS:CONFIRMED
TRANSP:TRANSPARENT
END:VEVENT
BEGIN:VEVENT
UID:Capital's Day-2015-10-14@publicholidaysin.com
DTSTAMP:20260421T054217Z
DTSTART;VALUE=DATE:20151014
DTEND;VALUE=DATE:20151015
SUMMARY:Capital's Day
DESCRIPTION:This is a public holiday in Moldova.
URL:https://publicholidaysin.com/moldova/2015
STATUS:CONFIRMED
TRANSP:TRANSPARENT
END:VEVENT
BEGIN:VEVENT
UID:South Capital's Day Cahul-2015-11-21@publicholidaysin.com
DTSTAMP:20260421T054217Z
DTSTART;VALUE=DATE:20151121
DTEND;VALUE=DATE:20151122
SUMMARY:South Capital's Day Cahul
DESCRIPTION:This is a public holiday in Moldova.
URL:https://publicholidaysin.com/moldova/2015
STATUS:CONFIRMED
TRANSP:TRANSPARENT
END:VEVENT
BEGIN:VEVENT
UID:Christmas Day-2015-12-25@publicholidaysin.com
DTSTAMP:20260421T054217Z
DTSTART;VALUE=DATE:20151225
DTEND;VALUE=DATE:20151226
SUMMARY:Craciun pe stil Nou (Western Christmas)
DESCRIPTION:Christmas Day on December 25 is observed by many families and churches. It is a peaceful holiday centered on faith and family meals.
URL:https://publicholidaysin.com/moldova/2015
STATUS:CONFIRMED
TRANSP:TRANSPARENT
END:VEVENT
END:VCALENDAR
