BEGIN:VCALENDAR
VERSION:2.0
PRODID:-//PublicHolidaysIn//Holiday Calendar//EN
CALSCALE:GREGORIAN
METHOD:PUBLISH
X-WR-CALNAME:Moldova Public Holidays 2012
X-WR-CALDESC:Public holidays in Moldova for 2012.
BEGIN:VEVENT
UID:New Year's Day-2012-01-01@publicholidaysin.com
DTSTAMP:20260421T101849Z
DTSTART;VALUE=DATE:20120101
DTEND;VALUE=DATE:20120102
SUMMARY:New Year's Day
DESCRIPTION:New Year’s Day in Moldova is a relaxed family holiday after midnight celebrations. Streets are quiet and many people spend the day visiting relatives or resting at home.
URL:https://publicholidaysin.com/moldova/2012
STATUS:CONFIRMED
TRANSP:TRANSPARENT
END:VEVENT
BEGIN:VEVENT
UID:Christmas Day (Orthodox)-2012-01-07@publicholidaysin.com
DTSTAMP:20260421T101849Z
DTSTART;VALUE=DATE:20120107
DTEND;VALUE=DATE:20120108
SUMMARY:Craciun pe stil Vechi (Orthodox Christmas)
DESCRIPTION:Orthodox Christmas on January 7 is a major religious holiday with church services\, festive meals\, and family gatherings.
URL:https://publicholidaysin.com/moldova/2012
STATUS:CONFIRMED
TRANSP:TRANSPARENT
END:VEVENT
BEGIN:VEVENT
UID:Christmas Day (Orthodox)-2012-01-08@publicholidaysin.com
DTSTAMP:20260421T101849Z
DTSTART;VALUE=DATE:20120108
DTEND;VALUE=DATE:20120109
SUMMARY:Craciun pe stil Vechi (Orthodox Christmas)
DESCRIPTION:Orthodox Christmas on January 7 is a major religious holiday with church services\, festive meals\, and family gatherings.
URL:https://publicholidaysin.com/moldova/2012
STATUS:CONFIRMED
TRANSP:TRANSPARENT
END:VEVENT
BEGIN:VEVENT
UID:Day of Veterans of the Armed Forces and Law Enforcement Agencies-2012-02-23@publicholidaysin.com
DTSTAMP:20260421T101849Z
DTSTART;VALUE=DATE:20120223
DTEND;VALUE=DATE:20120224
SUMMARY:Day of Veterans of the Armed Forces and Law Enforcement Agencies
DESCRIPTION:This is a public holiday in Moldova.
URL:https://publicholidaysin.com/moldova/2012
STATUS:CONFIRMED
TRANSP:TRANSPARENT
END:VEVENT
BEGIN:VEVENT
UID:International Women's Day-2012-03-08@publicholidaysin.com
DTSTAMP:20260421T101849Z
DTSTART;VALUE=DATE:20120308
DTEND;VALUE=DATE:20120309
SUMMARY:International Women's Day
DESCRIPTION:International Women’s Day is widely celebrated with flowers\, gifts\, and family dinners. It is one of Moldova’s most popular social holidays.
URL:https://publicholidaysin.com/moldova/2012
STATUS:CONFIRMED
TRANSP:TRANSPARENT
END:VEVENT
BEGIN:VEVENT
UID:Easter Sunday-2012-04-15@publicholidaysin.com
DTSTAMP:20260421T101849Z
DTSTART;VALUE=DATE:20120415
DTEND;VALUE=DATE:20120416
SUMMARY:Orthodox Easter
DESCRIPTION:Orthodox Easter Sunday is the most important Christian holiday in Moldova. Families attend midnight services and share traditional праздничный meals.
URL:https://publicholidaysin.com/moldova/2012
STATUS:CONFIRMED
TRANSP:TRANSPARENT
END:VEVENT
BEGIN:VEVENT
UID:Labour Day (Moldova)-2012-05-01@publicholidaysin.com
DTSTAMP:20260421T101849Z
DTSTART;VALUE=DATE:20120501
DTEND;VALUE=DATE:20120502
SUMMARY:Labour Day (Moldova)
DESCRIPTION:Labour Day is marked by public events and family outings. Many people use the day for a spring break or travel.
URL:https://publicholidaysin.com/moldova/2012
STATUS:CONFIRMED
TRANSP:TRANSPARENT
END:VEVENT
BEGIN:VEVENT
UID:Victory and Commemoration Day-2012-05-09@publicholidaysin.com
DTSTAMP:20260421T101849Z
DTSTART;VALUE=DATE:20120509
DTEND;VALUE=DATE:20120510
SUMMARY:Victory and Commemoration Day
DESCRIPTION:Victory Day commemorates the end of World War II with ceremonies\, parades\, and remembrance events across the country.
URL:https://publicholidaysin.com/moldova/2012
STATUS:CONFIRMED
TRANSP:TRANSPARENT
END:VEVENT
BEGIN:VEVENT
UID:Bălţi Day-2012-05-22@publicholidaysin.com
DTSTAMP:20260421T101849Z
DTSTART;VALUE=DATE:20120522
DTEND;VALUE=DATE:20120523
SUMMARY:Bălţi Day
DESCRIPTION:This is a public holiday in Moldova.
URL:https://publicholidaysin.com/moldova/2012
STATUS:CONFIRMED
TRANSP:TRANSPARENT
END:VEVENT
BEGIN:VEVENT
UID:Memorial Day-2012-08-27@publicholidaysin.com
DTSTAMP:20260421T101849Z
DTSTART;VALUE=DATE:20120827
DTEND;VALUE=DATE:20120828
SUMMARY:Memorial Day
DESCRIPTION:This is a public holiday in Moldova.
URL:https://publicholidaysin.com/moldova/2012
STATUS:CONFIRMED
TRANSP:TRANSPARENT
END:VEVENT
BEGIN:VEVENT
UID:Limba Noastra (National Language Day)-2012-08-31@publicholidaysin.com
DTSTAMP:20260421T101849Z
DTSTART;VALUE=DATE:20120831
DTEND;VALUE=DATE:20120901
SUMMARY:Limba Noastra
DESCRIPTION:National Language Day (Limba Noastră) celebrates the Romanian language and Moldovan cultural identity with literary events and concerts.
URL:https://publicholidaysin.com/moldova/2012
STATUS:CONFIRMED
TRANSP:TRANSPARENT
END:VEVENT
BEGIN:VEVENT
UID:Day of the Moldovan National Army-2012-09-03@publicholidaysin.com
DTSTAMP:20260421T101849Z
DTSTART;VALUE=DATE:20120903
DTEND;VALUE=DATE:20120904
SUMMARY:Day of the Moldovan National Army
DESCRIPTION:This is a public holiday in Moldova.
URL:https://publicholidaysin.com/moldova/2012
STATUS:CONFIRMED
TRANSP:TRANSPARENT
END:VEVENT
BEGIN:VEVENT
UID:Capital's Day-2012-10-14@publicholidaysin.com
DTSTAMP:20260421T101849Z
DTSTART;VALUE=DATE:20121014
DTEND;VALUE=DATE:20121015
SUMMARY:Capital's Day
DESCRIPTION:This is a public holiday in Moldova.
URL:https://publicholidaysin.com/moldova/2012
STATUS:CONFIRMED
TRANSP:TRANSPARENT
END:VEVENT
BEGIN:VEVENT
UID:South Capital's Day Cahul-2012-11-21@publicholidaysin.com
DTSTAMP:20260421T101849Z
DTSTART;VALUE=DATE:20121121
DTEND;VALUE=DATE:20121122
SUMMARY:South Capital's Day Cahul
DESCRIPTION:This is a public holiday in Moldova.
URL:https://publicholidaysin.com/moldova/2012
STATUS:CONFIRMED
TRANSP:TRANSPARENT
END:VEVENT
BEGIN:VEVENT
UID:Christmas Day-2012-12-25@publicholidaysin.com
DTSTAMP:20260421T101849Z
DTSTART;VALUE=DATE:20121225
DTEND;VALUE=DATE:20121226
SUMMARY:Craciun pe stil Nou (Western Christmas)
DESCRIPTION:Christmas Day on December 25 is observed by many families and churches. It is a peaceful holiday centered on faith and family meals.
URL:https://publicholidaysin.com/moldova/2012
STATUS:CONFIRMED
TRANSP:TRANSPARENT
END:VEVENT
END:VCALENDAR
