BEGIN:VCALENDAR
VERSION:2.0
PRODID:-//PublicHolidaysIn//Holiday Calendar//EN
CALSCALE:GREGORIAN
METHOD:PUBLISH
X-WR-CALNAME:Moldova Public Holidays 2008
X-WR-CALDESC:Public holidays in Moldova for 2008.
BEGIN:VEVENT
UID:New Year's Day-2008-01-01@publicholidaysin.com
DTSTAMP:20260421T164622Z
DTSTART;VALUE=DATE:20080101
DTEND;VALUE=DATE:20080102
SUMMARY:New Year's Day
DESCRIPTION:New Year’s Day in Moldova is a relaxed family holiday after midnight celebrations. Streets are quiet and many people spend the day visiting relatives or resting at home.
URL:https://publicholidaysin.com/moldova/2008
STATUS:CONFIRMED
TRANSP:TRANSPARENT
END:VEVENT
BEGIN:VEVENT
UID:Christmas Day (Orthodox)-2008-01-07@publicholidaysin.com
DTSTAMP:20260421T164622Z
DTSTART;VALUE=DATE:20080107
DTEND;VALUE=DATE:20080108
SUMMARY:Craciun pe stil Vechi (Orthodox Christmas)
DESCRIPTION:Orthodox Christmas on January 7 is a major religious holiday with church services\, festive meals\, and family gatherings.
URL:https://publicholidaysin.com/moldova/2008
STATUS:CONFIRMED
TRANSP:TRANSPARENT
END:VEVENT
BEGIN:VEVENT
UID:Christmas Day (Orthodox)-2008-01-08@publicholidaysin.com
DTSTAMP:20260421T164622Z
DTSTART;VALUE=DATE:20080108
DTEND;VALUE=DATE:20080109
SUMMARY:Craciun pe stil Vechi (Orthodox Christmas)
DESCRIPTION:Orthodox Christmas on January 7 is a major religious holiday with church services\, festive meals\, and family gatherings.
URL:https://publicholidaysin.com/moldova/2008
STATUS:CONFIRMED
TRANSP:TRANSPARENT
END:VEVENT
BEGIN:VEVENT
UID:Day of Veterans of the Armed Forces and Law Enforcement Agencies-2008-02-23@publicholidaysin.com
DTSTAMP:20260421T164622Z
DTSTART;VALUE=DATE:20080223
DTEND;VALUE=DATE:20080224
SUMMARY:Day of Veterans of the Armed Forces and Law Enforcement Agencies
DESCRIPTION:This is a public holiday in Moldova.
URL:https://publicholidaysin.com/moldova/2008
STATUS:CONFIRMED
TRANSP:TRANSPARENT
END:VEVENT
BEGIN:VEVENT
UID:International Women's Day-2008-03-08@publicholidaysin.com
DTSTAMP:20260421T164622Z
DTSTART;VALUE=DATE:20080308
DTEND;VALUE=DATE:20080309
SUMMARY:International Women's Day
DESCRIPTION:International Women’s Day is widely celebrated with flowers\, gifts\, and family dinners. It is one of Moldova’s most popular social holidays.
URL:https://publicholidaysin.com/moldova/2008
STATUS:CONFIRMED
TRANSP:TRANSPARENT
END:VEVENT
BEGIN:VEVENT
UID:Easter Sunday-2008-04-27@publicholidaysin.com
DTSTAMP:20260421T164622Z
DTSTART;VALUE=DATE:20080427
DTEND;VALUE=DATE:20080428
SUMMARY:Orthodox Easter
DESCRIPTION:Orthodox Easter Sunday is the most important Christian holiday in Moldova. Families attend midnight services and share traditional праздничный meals.
URL:https://publicholidaysin.com/moldova/2008
STATUS:CONFIRMED
TRANSP:TRANSPARENT
END:VEVENT
BEGIN:VEVENT
UID:Labour Day (Moldova)-2008-05-01@publicholidaysin.com
DTSTAMP:20260421T164622Z
DTSTART;VALUE=DATE:20080501
DTEND;VALUE=DATE:20080502
SUMMARY:Labour Day (Moldova)
DESCRIPTION:Labour Day is marked by public events and family outings. Many people use the day for a spring break or travel.
URL:https://publicholidaysin.com/moldova/2008
STATUS:CONFIRMED
TRANSP:TRANSPARENT
END:VEVENT
BEGIN:VEVENT
UID:Victory and Commemoration Day-2008-05-09@publicholidaysin.com
DTSTAMP:20260421T164622Z
DTSTART;VALUE=DATE:20080509
DTEND;VALUE=DATE:20080510
SUMMARY:Victory and Commemoration Day
DESCRIPTION:Victory Day commemorates the end of World War II with ceremonies\, parades\, and remembrance events across the country.
URL:https://publicholidaysin.com/moldova/2008
STATUS:CONFIRMED
TRANSP:TRANSPARENT
END:VEVENT
BEGIN:VEVENT
UID:Bălţi Day-2008-05-22@publicholidaysin.com
DTSTAMP:20260421T164622Z
DTSTART;VALUE=DATE:20080522
DTEND;VALUE=DATE:20080523
SUMMARY:Bălţi Day
DESCRIPTION:This is a public holiday in Moldova.
URL:https://publicholidaysin.com/moldova/2008
STATUS:CONFIRMED
TRANSP:TRANSPARENT
END:VEVENT
BEGIN:VEVENT
UID:Memorial Day-2008-08-25@publicholidaysin.com
DTSTAMP:20260421T164622Z
DTSTART;VALUE=DATE:20080825
DTEND;VALUE=DATE:20080826
SUMMARY:Memorial Day
DESCRIPTION:This is a public holiday in Moldova.
URL:https://publicholidaysin.com/moldova/2008
STATUS:CONFIRMED
TRANSP:TRANSPARENT
END:VEVENT
BEGIN:VEVENT
UID:Independence Day (Moldova)-2008-08-27@publicholidaysin.com
DTSTAMP:20260421T164622Z
DTSTART;VALUE=DATE:20080827
DTEND;VALUE=DATE:20080828
SUMMARY:Independence Day
DESCRIPTION:Independence Day on August 27 is one of Moldova’s most festive national holidays\, featuring concerts\, fireworks\, and official ceremonies.
URL:https://publicholidaysin.com/moldova/2008
STATUS:CONFIRMED
TRANSP:TRANSPARENT
END:VEVENT
BEGIN:VEVENT
UID:Limba Noastra (National Language Day)-2008-08-31@publicholidaysin.com
DTSTAMP:20260421T164622Z
DTSTART;VALUE=DATE:20080831
DTEND;VALUE=DATE:20080901
SUMMARY:Limba Noastra
DESCRIPTION:National Language Day (Limba Noastră) celebrates the Romanian language and Moldovan cultural identity with literary events and concerts.
URL:https://publicholidaysin.com/moldova/2008
STATUS:CONFIRMED
TRANSP:TRANSPARENT
END:VEVENT
BEGIN:VEVENT
UID:Day of the Moldovan National Army-2008-09-03@publicholidaysin.com
DTSTAMP:20260421T164622Z
DTSTART;VALUE=DATE:20080903
DTEND;VALUE=DATE:20080904
SUMMARY:Day of the Moldovan National Army
DESCRIPTION:This is a public holiday in Moldova.
URL:https://publicholidaysin.com/moldova/2008
STATUS:CONFIRMED
TRANSP:TRANSPARENT
END:VEVENT
BEGIN:VEVENT
UID:Capital's Day-2008-10-14@publicholidaysin.com
DTSTAMP:20260421T164622Z
DTSTART;VALUE=DATE:20081014
DTEND;VALUE=DATE:20081015
SUMMARY:Capital's Day
DESCRIPTION:This is a public holiday in Moldova.
URL:https://publicholidaysin.com/moldova/2008
STATUS:CONFIRMED
TRANSP:TRANSPARENT
END:VEVENT
BEGIN:VEVENT
UID:South Capital's Day Cahul-2008-11-21@publicholidaysin.com
DTSTAMP:20260421T164622Z
DTSTART;VALUE=DATE:20081121
DTEND;VALUE=DATE:20081122
SUMMARY:South Capital's Day Cahul
DESCRIPTION:This is a public holiday in Moldova.
URL:https://publicholidaysin.com/moldova/2008
STATUS:CONFIRMED
TRANSP:TRANSPARENT
END:VEVENT
BEGIN:VEVENT
UID:Christmas Day-2008-12-25@publicholidaysin.com
DTSTAMP:20260421T164622Z
DTSTART;VALUE=DATE:20081225
DTEND;VALUE=DATE:20081226
SUMMARY:Craciun pe stil Nou (Western Christmas)
DESCRIPTION:Christmas Day on December 25 is observed by many families and churches. It is a peaceful holiday centered on faith and family meals.
URL:https://publicholidaysin.com/moldova/2008
STATUS:CONFIRMED
TRANSP:TRANSPARENT
END:VEVENT
END:VCALENDAR
