BEGIN:VCALENDAR
VERSION:2.0
PRODID:-//PublicHolidaysIn//Holiday Calendar//EN
CALSCALE:GREGORIAN
METHOD:PUBLISH
X-WR-CALNAME:Moldova Public Holidays 2007
X-WR-CALDESC:Public holidays in Moldova for 2007.
BEGIN:VEVENT
UID:New Year's Day-2007-01-01@publicholidaysin.com
DTSTAMP:20260421T183156Z
DTSTART;VALUE=DATE:20070101
DTEND;VALUE=DATE:20070102
SUMMARY:New Year's Day
DESCRIPTION:New Year’s Day in Moldova is a relaxed family holiday after midnight celebrations. Streets are quiet and many people spend the day visiting relatives or resting at home.
URL:https://publicholidaysin.com/moldova/2007
STATUS:CONFIRMED
TRANSP:TRANSPARENT
END:VEVENT
BEGIN:VEVENT
UID:Christmas Day (Orthodox)-2007-01-07@publicholidaysin.com
DTSTAMP:20260421T183156Z
DTSTART;VALUE=DATE:20070107
DTEND;VALUE=DATE:20070108
SUMMARY:Craciun pe stil Vechi (Orthodox Christmas)
DESCRIPTION:Orthodox Christmas on January 7 is a major religious holiday with church services\, festive meals\, and family gatherings.
URL:https://publicholidaysin.com/moldova/2007
STATUS:CONFIRMED
TRANSP:TRANSPARENT
END:VEVENT
BEGIN:VEVENT
UID:Christmas Day (Orthodox)-2007-01-08@publicholidaysin.com
DTSTAMP:20260421T183156Z
DTSTART;VALUE=DATE:20070108
DTEND;VALUE=DATE:20070109
SUMMARY:Craciun pe stil Vechi (Orthodox Christmas)
DESCRIPTION:Orthodox Christmas on January 7 is a major religious holiday with church services\, festive meals\, and family gatherings.
URL:https://publicholidaysin.com/moldova/2007
STATUS:CONFIRMED
TRANSP:TRANSPARENT
END:VEVENT
BEGIN:VEVENT
UID:Day of Veterans of the Armed Forces and Law Enforcement Agencies-2007-02-23@publicholidaysin.com
DTSTAMP:20260421T183156Z
DTSTART;VALUE=DATE:20070223
DTEND;VALUE=DATE:20070224
SUMMARY:Day of Veterans of the Armed Forces and Law Enforcement Agencies
DESCRIPTION:This is a public holiday in Moldova.
URL:https://publicholidaysin.com/moldova/2007
STATUS:CONFIRMED
TRANSP:TRANSPARENT
END:VEVENT
BEGIN:VEVENT
UID:International Women's Day-2007-03-08@publicholidaysin.com
DTSTAMP:20260421T183156Z
DTSTART;VALUE=DATE:20070308
DTEND;VALUE=DATE:20070309
SUMMARY:International Women's Day
DESCRIPTION:International Women’s Day is widely celebrated with flowers\, gifts\, and family dinners. It is one of Moldova’s most popular social holidays.
URL:https://publicholidaysin.com/moldova/2007
STATUS:CONFIRMED
TRANSP:TRANSPARENT
END:VEVENT
BEGIN:VEVENT
UID:Easter Sunday-2007-04-08@publicholidaysin.com
DTSTAMP:20260421T183156Z
DTSTART;VALUE=DATE:20070408
DTEND;VALUE=DATE:20070409
SUMMARY:Orthodox Easter
DESCRIPTION:Orthodox Easter Sunday is the most important Christian holiday in Moldova. Families attend midnight services and share traditional праздничный meals.
URL:https://publicholidaysin.com/moldova/2007
STATUS:CONFIRMED
TRANSP:TRANSPARENT
END:VEVENT
BEGIN:VEVENT
UID:Labour Day (Moldova)-2007-05-01@publicholidaysin.com
DTSTAMP:20260421T183156Z
DTSTART;VALUE=DATE:20070501
DTEND;VALUE=DATE:20070502
SUMMARY:Labour Day (Moldova)
DESCRIPTION:Labour Day is marked by public events and family outings. Many people use the day for a spring break or travel.
URL:https://publicholidaysin.com/moldova/2007
STATUS:CONFIRMED
TRANSP:TRANSPARENT
END:VEVENT
BEGIN:VEVENT
UID:Victory and Commemoration Day-2007-05-09@publicholidaysin.com
DTSTAMP:20260421T183156Z
DTSTART;VALUE=DATE:20070509
DTEND;VALUE=DATE:20070510
SUMMARY:Victory and Commemoration Day
DESCRIPTION:Victory Day commemorates the end of World War II with ceremonies\, parades\, and remembrance events across the country.
URL:https://publicholidaysin.com/moldova/2007
STATUS:CONFIRMED
TRANSP:TRANSPARENT
END:VEVENT
BEGIN:VEVENT
UID:Bălţi Day-2007-05-22@publicholidaysin.com
DTSTAMP:20260421T183156Z
DTSTART;VALUE=DATE:20070522
DTEND;VALUE=DATE:20070523
SUMMARY:Bălţi Day
DESCRIPTION:This is a public holiday in Moldova.
URL:https://publicholidaysin.com/moldova/2007
STATUS:CONFIRMED
TRANSP:TRANSPARENT
END:VEVENT
BEGIN:VEVENT
UID:Memorial Day-2007-08-27@publicholidaysin.com
DTSTAMP:20260421T183156Z
DTSTART;VALUE=DATE:20070827
DTEND;VALUE=DATE:20070828
SUMMARY:Memorial Day
DESCRIPTION:This is a public holiday in Moldova.
URL:https://publicholidaysin.com/moldova/2007
STATUS:CONFIRMED
TRANSP:TRANSPARENT
END:VEVENT
BEGIN:VEVENT
UID:Limba Noastra (National Language Day)-2007-08-31@publicholidaysin.com
DTSTAMP:20260421T183156Z
DTSTART;VALUE=DATE:20070831
DTEND;VALUE=DATE:20070901
SUMMARY:Limba Noastra
DESCRIPTION:National Language Day (Limba Noastră) celebrates the Romanian language and Moldovan cultural identity with literary events and concerts.
URL:https://publicholidaysin.com/moldova/2007
STATUS:CONFIRMED
TRANSP:TRANSPARENT
END:VEVENT
BEGIN:VEVENT
UID:Day of the Moldovan National Army-2007-09-03@publicholidaysin.com
DTSTAMP:20260421T183156Z
DTSTART;VALUE=DATE:20070903
DTEND;VALUE=DATE:20070904
SUMMARY:Day of the Moldovan National Army
DESCRIPTION:This is a public holiday in Moldova.
URL:https://publicholidaysin.com/moldova/2007
STATUS:CONFIRMED
TRANSP:TRANSPARENT
END:VEVENT
BEGIN:VEVENT
UID:Capital's Day-2007-10-14@publicholidaysin.com
DTSTAMP:20260421T183156Z
DTSTART;VALUE=DATE:20071014
DTEND;VALUE=DATE:20071015
SUMMARY:Capital's Day
DESCRIPTION:This is a public holiday in Moldova.
URL:https://publicholidaysin.com/moldova/2007
STATUS:CONFIRMED
TRANSP:TRANSPARENT
END:VEVENT
BEGIN:VEVENT
UID:South Capital's Day Cahul-2007-11-21@publicholidaysin.com
DTSTAMP:20260421T183156Z
DTSTART;VALUE=DATE:20071121
DTEND;VALUE=DATE:20071122
SUMMARY:South Capital's Day Cahul
DESCRIPTION:This is a public holiday in Moldova.
URL:https://publicholidaysin.com/moldova/2007
STATUS:CONFIRMED
TRANSP:TRANSPARENT
END:VEVENT
BEGIN:VEVENT
UID:Christmas Day-2007-12-25@publicholidaysin.com
DTSTAMP:20260421T183156Z
DTSTART;VALUE=DATE:20071225
DTEND;VALUE=DATE:20071226
SUMMARY:Craciun pe stil Nou (Western Christmas)
DESCRIPTION:Christmas Day on December 25 is observed by many families and churches. It is a peaceful holiday centered on faith and family meals.
URL:https://publicholidaysin.com/moldova/2007
STATUS:CONFIRMED
TRANSP:TRANSPARENT
END:VEVENT
END:VCALENDAR
