BEGIN:VCALENDAR
VERSION:2.0
PRODID:-//PublicHolidaysIn//Holiday Calendar//EN
CALSCALE:GREGORIAN
METHOD:PUBLISH
X-WR-CALNAME:Moldova Public Holidays 1995
X-WR-CALDESC:Public holidays in Moldova for 1995.
BEGIN:VEVENT
UID:New Year's Day-1995-01-01@publicholidaysin.com
DTSTAMP:20260422T135715Z
DTSTART;VALUE=DATE:19950101
DTEND;VALUE=DATE:19950102
SUMMARY:New Year's Day
DESCRIPTION:New Year’s Day in Moldova is a relaxed family holiday after midnight celebrations. Streets are quiet and many people spend the day visiting relatives or resting at home.
URL:https://publicholidaysin.com/moldova/1995
STATUS:CONFIRMED
TRANSP:TRANSPARENT
END:VEVENT
BEGIN:VEVENT
UID:Christmas Day (Orthodox)-1995-01-07@publicholidaysin.com
DTSTAMP:20260422T135715Z
DTSTART;VALUE=DATE:19950107
DTEND;VALUE=DATE:19950108
SUMMARY:Craciun pe stil Vechi (Orthodox Christmas)
DESCRIPTION:Orthodox Christmas on January 7 is a major religious holiday with church services\, festive meals\, and family gatherings.
URL:https://publicholidaysin.com/moldova/1995
STATUS:CONFIRMED
TRANSP:TRANSPARENT
END:VEVENT
BEGIN:VEVENT
UID:Christmas Day (Orthodox)-1995-01-08@publicholidaysin.com
DTSTAMP:20260422T135715Z
DTSTART;VALUE=DATE:19950108
DTEND;VALUE=DATE:19950109
SUMMARY:Craciun pe stil Vechi (Orthodox Christmas)
DESCRIPTION:Orthodox Christmas on January 7 is a major religious holiday with church services\, festive meals\, and family gatherings.
URL:https://publicholidaysin.com/moldova/1995
STATUS:CONFIRMED
TRANSP:TRANSPARENT
END:VEVENT
BEGIN:VEVENT
UID:Day of Veterans of the Armed Forces and Law Enforcement Agencies-1995-02-23@publicholidaysin.com
DTSTAMP:20260422T135715Z
DTSTART;VALUE=DATE:19950223
DTEND;VALUE=DATE:19950224
SUMMARY:Day of Veterans of the Armed Forces and Law Enforcement Agencies
DESCRIPTION:This is a public holiday in Moldova.
URL:https://publicholidaysin.com/moldova/1995
STATUS:CONFIRMED
TRANSP:TRANSPARENT
END:VEVENT
BEGIN:VEVENT
UID:International Women's Day-1995-03-08@publicholidaysin.com
DTSTAMP:20260422T135715Z
DTSTART;VALUE=DATE:19950308
DTEND;VALUE=DATE:19950309
SUMMARY:International Women's Day
DESCRIPTION:International Women’s Day is widely celebrated with flowers\, gifts\, and family dinners. It is one of Moldova’s most popular social holidays.
URL:https://publicholidaysin.com/moldova/1995
STATUS:CONFIRMED
TRANSP:TRANSPARENT
END:VEVENT
BEGIN:VEVENT
UID:Easter Sunday-1995-04-23@publicholidaysin.com
DTSTAMP:20260422T135715Z
DTSTART;VALUE=DATE:19950423
DTEND;VALUE=DATE:19950424
SUMMARY:Orthodox Easter
DESCRIPTION:Orthodox Easter Sunday is the most important Christian holiday in Moldova. Families attend midnight services and share traditional праздничный meals.
URL:https://publicholidaysin.com/moldova/1995
STATUS:CONFIRMED
TRANSP:TRANSPARENT
END:VEVENT
BEGIN:VEVENT
UID:Labour Day (Moldova)-1995-05-01@publicholidaysin.com
DTSTAMP:20260422T135715Z
DTSTART;VALUE=DATE:19950501
DTEND;VALUE=DATE:19950502
SUMMARY:Labour Day (Moldova)
DESCRIPTION:Labour Day is marked by public events and family outings. Many people use the day for a spring break or travel.
URL:https://publicholidaysin.com/moldova/1995
STATUS:CONFIRMED
TRANSP:TRANSPARENT
END:VEVENT
BEGIN:VEVENT
UID:Victory and Commemoration Day-1995-05-09@publicholidaysin.com
DTSTAMP:20260422T135715Z
DTSTART;VALUE=DATE:19950509
DTEND;VALUE=DATE:19950510
SUMMARY:Victory and Commemoration Day
DESCRIPTION:Victory Day commemorates the end of World War II with ceremonies\, parades\, and remembrance events across the country.
URL:https://publicholidaysin.com/moldova/1995
STATUS:CONFIRMED
TRANSP:TRANSPARENT
END:VEVENT
BEGIN:VEVENT
UID:Bălţi Day-1995-05-22@publicholidaysin.com
DTSTAMP:20260422T135715Z
DTSTART;VALUE=DATE:19950522
DTEND;VALUE=DATE:19950523
SUMMARY:Bălţi Day
DESCRIPTION:This is a public holiday in Moldova.
URL:https://publicholidaysin.com/moldova/1995
STATUS:CONFIRMED
TRANSP:TRANSPARENT
END:VEVENT
BEGIN:VEVENT
UID:Independence Day (Moldova)-1995-08-27@publicholidaysin.com
DTSTAMP:20260422T135715Z
DTSTART;VALUE=DATE:19950827
DTEND;VALUE=DATE:19950828
SUMMARY:Independence Day
DESCRIPTION:Independence Day on August 27 is one of Moldova’s most festive national holidays\, featuring concerts\, fireworks\, and official ceremonies.
URL:https://publicholidaysin.com/moldova/1995
STATUS:CONFIRMED
TRANSP:TRANSPARENT
END:VEVENT
BEGIN:VEVENT
UID:Memorial Day-1995-08-28@publicholidaysin.com
DTSTAMP:20260422T135715Z
DTSTART;VALUE=DATE:19950828
DTEND;VALUE=DATE:19950829
SUMMARY:Memorial Day
DESCRIPTION:This is a public holiday in Moldova.
URL:https://publicholidaysin.com/moldova/1995
STATUS:CONFIRMED
TRANSP:TRANSPARENT
END:VEVENT
BEGIN:VEVENT
UID:Limba Noastra (National Language Day)-1995-08-31@publicholidaysin.com
DTSTAMP:20260422T135715Z
DTSTART;VALUE=DATE:19950831
DTEND;VALUE=DATE:19950901
SUMMARY:Limba Noastra
DESCRIPTION:National Language Day (Limba Noastră) celebrates the Romanian language and Moldovan cultural identity with literary events and concerts.
URL:https://publicholidaysin.com/moldova/1995
STATUS:CONFIRMED
TRANSP:TRANSPARENT
END:VEVENT
BEGIN:VEVENT
UID:Day of the Moldovan National Army-1995-09-03@publicholidaysin.com
DTSTAMP:20260422T135715Z
DTSTART;VALUE=DATE:19950903
DTEND;VALUE=DATE:19950904
SUMMARY:Day of the Moldovan National Army
DESCRIPTION:This is a public holiday in Moldova.
URL:https://publicholidaysin.com/moldova/1995
STATUS:CONFIRMED
TRANSP:TRANSPARENT
END:VEVENT
BEGIN:VEVENT
UID:Capital's Day-1995-10-14@publicholidaysin.com
DTSTAMP:20260422T135715Z
DTSTART;VALUE=DATE:19951014
DTEND;VALUE=DATE:19951015
SUMMARY:Capital's Day
DESCRIPTION:This is a public holiday in Moldova.
URL:https://publicholidaysin.com/moldova/1995
STATUS:CONFIRMED
TRANSP:TRANSPARENT
END:VEVENT
BEGIN:VEVENT
UID:South Capital's Day Cahul-1995-11-21@publicholidaysin.com
DTSTAMP:20260422T135715Z
DTSTART;VALUE=DATE:19951121
DTEND;VALUE=DATE:19951122
SUMMARY:South Capital's Day Cahul
DESCRIPTION:This is a public holiday in Moldova.
URL:https://publicholidaysin.com/moldova/1995
STATUS:CONFIRMED
TRANSP:TRANSPARENT
END:VEVENT
BEGIN:VEVENT
UID:Christmas Day-1995-12-25@publicholidaysin.com
DTSTAMP:20260422T135715Z
DTSTART;VALUE=DATE:19951225
DTEND;VALUE=DATE:19951226
SUMMARY:Craciun pe stil Nou (Western Christmas)
DESCRIPTION:Christmas Day on December 25 is observed by many families and churches. It is a peaceful holiday centered on faith and family meals.
URL:https://publicholidaysin.com/moldova/1995
STATUS:CONFIRMED
TRANSP:TRANSPARENT
END:VEVENT
END:VCALENDAR
