BEGIN:VCALENDAR
VERSION:2.0
PRODID:-//PublicHolidaysIn//Holiday Calendar//EN
CALSCALE:GREGORIAN
METHOD:PUBLISH
X-WR-CALNAME:Moldova Public Holidays 1988
X-WR-CALDESC:Public holidays in Moldova for 1988.
BEGIN:VEVENT
UID:New Year's Day-1988-01-01@publicholidaysin.com
DTSTAMP:20260422T235434Z
DTSTART;VALUE=DATE:19880101
DTEND;VALUE=DATE:19880102
SUMMARY:New Year's Day
DESCRIPTION:New Year’s Day in Moldova is a relaxed family holiday after midnight celebrations. Streets are quiet and many people spend the day visiting relatives or resting at home.
URL:https://publicholidaysin.com/moldova/1988
STATUS:CONFIRMED
TRANSP:TRANSPARENT
END:VEVENT
BEGIN:VEVENT
UID:Christmas Day (Orthodox)-1988-01-07@publicholidaysin.com
DTSTAMP:20260422T235434Z
DTSTART;VALUE=DATE:19880107
DTEND;VALUE=DATE:19880108
SUMMARY:Craciun pe stil Vechi (Orthodox Christmas)
DESCRIPTION:Orthodox Christmas on January 7 is a major religious holiday with church services\, festive meals\, and family gatherings.
URL:https://publicholidaysin.com/moldova/1988
STATUS:CONFIRMED
TRANSP:TRANSPARENT
END:VEVENT
BEGIN:VEVENT
UID:Christmas Day (Orthodox)-1988-01-08@publicholidaysin.com
DTSTAMP:20260422T235434Z
DTSTART;VALUE=DATE:19880108
DTEND;VALUE=DATE:19880109
SUMMARY:Craciun pe stil Vechi (Orthodox Christmas)
DESCRIPTION:Orthodox Christmas on January 7 is a major religious holiday with church services\, festive meals\, and family gatherings.
URL:https://publicholidaysin.com/moldova/1988
STATUS:CONFIRMED
TRANSP:TRANSPARENT
END:VEVENT
BEGIN:VEVENT
UID:Day of Veterans of the Armed Forces and Law Enforcement Agencies-1988-02-23@publicholidaysin.com
DTSTAMP:20260422T235434Z
DTSTART;VALUE=DATE:19880223
DTEND;VALUE=DATE:19880224
SUMMARY:Day of Veterans of the Armed Forces and Law Enforcement Agencies
DESCRIPTION:This is a public holiday in Moldova.
URL:https://publicholidaysin.com/moldova/1988
STATUS:CONFIRMED
TRANSP:TRANSPARENT
END:VEVENT
BEGIN:VEVENT
UID:International Women's Day-1988-03-08@publicholidaysin.com
DTSTAMP:20260422T235434Z
DTSTART;VALUE=DATE:19880308
DTEND;VALUE=DATE:19880309
SUMMARY:International Women's Day
DESCRIPTION:International Women’s Day is widely celebrated with flowers\, gifts\, and family dinners. It is one of Moldova’s most popular social holidays.
URL:https://publicholidaysin.com/moldova/1988
STATUS:CONFIRMED
TRANSP:TRANSPARENT
END:VEVENT
BEGIN:VEVENT
UID:Easter Sunday-1988-04-10@publicholidaysin.com
DTSTAMP:20260422T235434Z
DTSTART;VALUE=DATE:19880410
DTEND;VALUE=DATE:19880411
SUMMARY:Orthodox Easter
DESCRIPTION:Orthodox Easter Sunday is the most important Christian holiday in Moldova. Families attend midnight services and share traditional праздничный meals.
URL:https://publicholidaysin.com/moldova/1988
STATUS:CONFIRMED
TRANSP:TRANSPARENT
END:VEVENT
BEGIN:VEVENT
UID:Labour Day (Moldova)-1988-05-01@publicholidaysin.com
DTSTAMP:20260422T235434Z
DTSTART;VALUE=DATE:19880501
DTEND;VALUE=DATE:19880502
SUMMARY:Labour Day (Moldova)
DESCRIPTION:Labour Day is marked by public events and family outings. Many people use the day for a spring break or travel.
URL:https://publicholidaysin.com/moldova/1988
STATUS:CONFIRMED
TRANSP:TRANSPARENT
END:VEVENT
BEGIN:VEVENT
UID:Victory and Commemoration Day-1988-05-09@publicholidaysin.com
DTSTAMP:20260422T235434Z
DTSTART;VALUE=DATE:19880509
DTEND;VALUE=DATE:19880510
SUMMARY:Victory and Commemoration Day
DESCRIPTION:Victory Day commemorates the end of World War II with ceremonies\, parades\, and remembrance events across the country.
URL:https://publicholidaysin.com/moldova/1988
STATUS:CONFIRMED
TRANSP:TRANSPARENT
END:VEVENT
BEGIN:VEVENT
UID:Bălţi Day-1988-05-22@publicholidaysin.com
DTSTAMP:20260422T235434Z
DTSTART;VALUE=DATE:19880522
DTEND;VALUE=DATE:19880523
SUMMARY:Bălţi Day
DESCRIPTION:This is a public holiday in Moldova.
URL:https://publicholidaysin.com/moldova/1988
STATUS:CONFIRMED
TRANSP:TRANSPARENT
END:VEVENT
BEGIN:VEVENT
UID:Independence Day (Moldova)-1988-08-27@publicholidaysin.com
DTSTAMP:20260422T235434Z
DTSTART;VALUE=DATE:19880827
DTEND;VALUE=DATE:19880828
SUMMARY:Independence Day
DESCRIPTION:Independence Day on August 27 is one of Moldova’s most festive national holidays\, featuring concerts\, fireworks\, and official ceremonies.
URL:https://publicholidaysin.com/moldova/1988
STATUS:CONFIRMED
TRANSP:TRANSPARENT
END:VEVENT
BEGIN:VEVENT
UID:Memorial Day-1988-08-29@publicholidaysin.com
DTSTAMP:20260422T235434Z
DTSTART;VALUE=DATE:19880829
DTEND;VALUE=DATE:19880830
SUMMARY:Memorial Day
DESCRIPTION:This is a public holiday in Moldova.
URL:https://publicholidaysin.com/moldova/1988
STATUS:CONFIRMED
TRANSP:TRANSPARENT
END:VEVENT
BEGIN:VEVENT
UID:Limba Noastra (National Language Day)-1988-08-31@publicholidaysin.com
DTSTAMP:20260422T235434Z
DTSTART;VALUE=DATE:19880831
DTEND;VALUE=DATE:19880901
SUMMARY:Limba Noastra
DESCRIPTION:National Language Day (Limba Noastră) celebrates the Romanian language and Moldovan cultural identity with literary events and concerts.
URL:https://publicholidaysin.com/moldova/1988
STATUS:CONFIRMED
TRANSP:TRANSPARENT
END:VEVENT
BEGIN:VEVENT
UID:Day of the Moldovan National Army-1988-09-03@publicholidaysin.com
DTSTAMP:20260422T235434Z
DTSTART;VALUE=DATE:19880903
DTEND;VALUE=DATE:19880904
SUMMARY:Day of the Moldovan National Army
DESCRIPTION:This is a public holiday in Moldova.
URL:https://publicholidaysin.com/moldova/1988
STATUS:CONFIRMED
TRANSP:TRANSPARENT
END:VEVENT
BEGIN:VEVENT
UID:Capital's Day-1988-10-14@publicholidaysin.com
DTSTAMP:20260422T235434Z
DTSTART;VALUE=DATE:19881014
DTEND;VALUE=DATE:19881015
SUMMARY:Capital's Day
DESCRIPTION:This is a public holiday in Moldova.
URL:https://publicholidaysin.com/moldova/1988
STATUS:CONFIRMED
TRANSP:TRANSPARENT
END:VEVENT
BEGIN:VEVENT
UID:South Capital's Day Cahul-1988-11-21@publicholidaysin.com
DTSTAMP:20260422T235434Z
DTSTART;VALUE=DATE:19881121
DTEND;VALUE=DATE:19881122
SUMMARY:South Capital's Day Cahul
DESCRIPTION:This is a public holiday in Moldova.
URL:https://publicholidaysin.com/moldova/1988
STATUS:CONFIRMED
TRANSP:TRANSPARENT
END:VEVENT
BEGIN:VEVENT
UID:Christmas Day-1988-12-25@publicholidaysin.com
DTSTAMP:20260422T235434Z
DTSTART;VALUE=DATE:19881225
DTEND;VALUE=DATE:19881226
SUMMARY:Craciun pe stil Nou (Western Christmas)
DESCRIPTION:Christmas Day on December 25 is observed by many families and churches. It is a peaceful holiday centered on faith and family meals.
URL:https://publicholidaysin.com/moldova/1988
STATUS:CONFIRMED
TRANSP:TRANSPARENT
END:VEVENT
END:VCALENDAR
