BEGIN:VCALENDAR
VERSION:2.0
PRODID:-//PublicHolidaysIn//Holiday Calendar//EN
CALSCALE:GREGORIAN
METHOD:PUBLISH
X-WR-CALNAME:Moldova Public Holidays 1978
X-WR-CALDESC:Public holidays in Moldova for 1978.
BEGIN:VEVENT
UID:New Year's Day-1978-01-01@publicholidaysin.com
DTSTAMP:20260423T132123Z
DTSTART;VALUE=DATE:19780101
DTEND;VALUE=DATE:19780102
SUMMARY:New Year's Day
DESCRIPTION:New Year’s Day in Moldova is a relaxed family holiday after midnight celebrations. Streets are quiet and many people spend the day visiting relatives or resting at home.
URL:https://publicholidaysin.com/moldova/1978
STATUS:CONFIRMED
TRANSP:TRANSPARENT
END:VEVENT
BEGIN:VEVENT
UID:Christmas Day (Orthodox)-1978-01-07@publicholidaysin.com
DTSTAMP:20260423T132123Z
DTSTART;VALUE=DATE:19780107
DTEND;VALUE=DATE:19780108
SUMMARY:Craciun pe stil Vechi (Orthodox Christmas)
DESCRIPTION:Orthodox Christmas on January 7 is a major religious holiday with church services\, festive meals\, and family gatherings.
URL:https://publicholidaysin.com/moldova/1978
STATUS:CONFIRMED
TRANSP:TRANSPARENT
END:VEVENT
BEGIN:VEVENT
UID:Christmas Day (Orthodox)-1978-01-08@publicholidaysin.com
DTSTAMP:20260423T132123Z
DTSTART;VALUE=DATE:19780108
DTEND;VALUE=DATE:19780109
SUMMARY:Craciun pe stil Vechi (Orthodox Christmas)
DESCRIPTION:Orthodox Christmas on January 7 is a major religious holiday with church services\, festive meals\, and family gatherings.
URL:https://publicholidaysin.com/moldova/1978
STATUS:CONFIRMED
TRANSP:TRANSPARENT
END:VEVENT
BEGIN:VEVENT
UID:Day of Veterans of the Armed Forces and Law Enforcement Agencies-1978-02-23@publicholidaysin.com
DTSTAMP:20260423T132123Z
DTSTART;VALUE=DATE:19780223
DTEND;VALUE=DATE:19780224
SUMMARY:Day of Veterans of the Armed Forces and Law Enforcement Agencies
DESCRIPTION:This is a public holiday in Moldova.
URL:https://publicholidaysin.com/moldova/1978
STATUS:CONFIRMED
TRANSP:TRANSPARENT
END:VEVENT
BEGIN:VEVENT
UID:International Women's Day-1978-03-08@publicholidaysin.com
DTSTAMP:20260423T132123Z
DTSTART;VALUE=DATE:19780308
DTEND;VALUE=DATE:19780309
SUMMARY:International Women's Day
DESCRIPTION:International Women’s Day is widely celebrated with flowers\, gifts\, and family dinners. It is one of Moldova’s most popular social holidays.
URL:https://publicholidaysin.com/moldova/1978
STATUS:CONFIRMED
TRANSP:TRANSPARENT
END:VEVENT
BEGIN:VEVENT
UID:Easter Sunday-1978-04-30@publicholidaysin.com
DTSTAMP:20260423T132123Z
DTSTART;VALUE=DATE:19780430
DTEND;VALUE=DATE:19780501
SUMMARY:Orthodox Easter
DESCRIPTION:Orthodox Easter Sunday is the most important Christian holiday in Moldova. Families attend midnight services and share traditional праздничный meals.
URL:https://publicholidaysin.com/moldova/1978
STATUS:CONFIRMED
TRANSP:TRANSPARENT
END:VEVENT
BEGIN:VEVENT
UID:Labour Day (Moldova)-1978-05-01@publicholidaysin.com
DTSTAMP:20260423T132123Z
DTSTART;VALUE=DATE:19780501
DTEND;VALUE=DATE:19780502
SUMMARY:Labour Day (Moldova)
DESCRIPTION:Labour Day is marked by public events and family outings. Many people use the day for a spring break or travel.
URL:https://publicholidaysin.com/moldova/1978
STATUS:CONFIRMED
TRANSP:TRANSPARENT
END:VEVENT
BEGIN:VEVENT
UID:Victory and Commemoration Day-1978-05-09@publicholidaysin.com
DTSTAMP:20260423T132123Z
DTSTART;VALUE=DATE:19780509
DTEND;VALUE=DATE:19780510
SUMMARY:Victory and Commemoration Day
DESCRIPTION:Victory Day commemorates the end of World War II with ceremonies\, parades\, and remembrance events across the country.
URL:https://publicholidaysin.com/moldova/1978
STATUS:CONFIRMED
TRANSP:TRANSPARENT
END:VEVENT
BEGIN:VEVENT
UID:Bălţi Day-1978-05-22@publicholidaysin.com
DTSTAMP:20260423T132123Z
DTSTART;VALUE=DATE:19780522
DTEND;VALUE=DATE:19780523
SUMMARY:Bălţi Day
DESCRIPTION:This is a public holiday in Moldova.
URL:https://publicholidaysin.com/moldova/1978
STATUS:CONFIRMED
TRANSP:TRANSPARENT
END:VEVENT
BEGIN:VEVENT
UID:Independence Day (Moldova)-1978-08-27@publicholidaysin.com
DTSTAMP:20260423T132123Z
DTSTART;VALUE=DATE:19780827
DTEND;VALUE=DATE:19780828
SUMMARY:Independence Day
DESCRIPTION:Independence Day on August 27 is one of Moldova’s most festive national holidays\, featuring concerts\, fireworks\, and official ceremonies.
URL:https://publicholidaysin.com/moldova/1978
STATUS:CONFIRMED
TRANSP:TRANSPARENT
END:VEVENT
BEGIN:VEVENT
UID:Memorial Day-1978-08-28@publicholidaysin.com
DTSTAMP:20260423T132123Z
DTSTART;VALUE=DATE:19780828
DTEND;VALUE=DATE:19780829
SUMMARY:Memorial Day
DESCRIPTION:This is a public holiday in Moldova.
URL:https://publicholidaysin.com/moldova/1978
STATUS:CONFIRMED
TRANSP:TRANSPARENT
END:VEVENT
BEGIN:VEVENT
UID:Limba Noastra (National Language Day)-1978-08-31@publicholidaysin.com
DTSTAMP:20260423T132123Z
DTSTART;VALUE=DATE:19780831
DTEND;VALUE=DATE:19780901
SUMMARY:Limba Noastra
DESCRIPTION:National Language Day (Limba Noastră) celebrates the Romanian language and Moldovan cultural identity with literary events and concerts.
URL:https://publicholidaysin.com/moldova/1978
STATUS:CONFIRMED
TRANSP:TRANSPARENT
END:VEVENT
BEGIN:VEVENT
UID:Day of the Moldovan National Army-1978-09-03@publicholidaysin.com
DTSTAMP:20260423T132123Z
DTSTART;VALUE=DATE:19780903
DTEND;VALUE=DATE:19780904
SUMMARY:Day of the Moldovan National Army
DESCRIPTION:This is a public holiday in Moldova.
URL:https://publicholidaysin.com/moldova/1978
STATUS:CONFIRMED
TRANSP:TRANSPARENT
END:VEVENT
BEGIN:VEVENT
UID:Capital's Day-1978-10-14@publicholidaysin.com
DTSTAMP:20260423T132123Z
DTSTART;VALUE=DATE:19781014
DTEND;VALUE=DATE:19781015
SUMMARY:Capital's Day
DESCRIPTION:This is a public holiday in Moldova.
URL:https://publicholidaysin.com/moldova/1978
STATUS:CONFIRMED
TRANSP:TRANSPARENT
END:VEVENT
BEGIN:VEVENT
UID:South Capital's Day Cahul-1978-11-21@publicholidaysin.com
DTSTAMP:20260423T132123Z
DTSTART;VALUE=DATE:19781121
DTEND;VALUE=DATE:19781122
SUMMARY:South Capital's Day Cahul
DESCRIPTION:This is a public holiday in Moldova.
URL:https://publicholidaysin.com/moldova/1978
STATUS:CONFIRMED
TRANSP:TRANSPARENT
END:VEVENT
BEGIN:VEVENT
UID:Christmas Day-1978-12-25@publicholidaysin.com
DTSTAMP:20260423T132123Z
DTSTART;VALUE=DATE:19781225
DTEND;VALUE=DATE:19781226
SUMMARY:Craciun pe stil Nou (Western Christmas)
DESCRIPTION:Christmas Day on December 25 is observed by many families and churches. It is a peaceful holiday centered on faith and family meals.
URL:https://publicholidaysin.com/moldova/1978
STATUS:CONFIRMED
TRANSP:TRANSPARENT
END:VEVENT
END:VCALENDAR
