BEGIN:VCALENDAR
VERSION:2.0
PRODID:-//PublicHolidaysIn//Holiday Calendar//EN
CALSCALE:GREGORIAN
METHOD:PUBLISH
X-WR-CALNAME:Egypt Public Holidays 2003
X-WR-CALDESC:Public holidays in Egypt for 2003.
BEGIN:VEVENT
UID:Christmas Day (Orthodox)-2003-01-07@publicholidaysin.com
DTSTAMP:20260422T004555Z
DTSTART;VALUE=DATE:20030107
DTEND;VALUE=DATE:20030108
SUMMARY:عيد الميلاد المجيد
DESCRIPTION:Christmas Day in Egypt is celebrated by the Coptic Orthodox Christian community and marks the birth of Jesus Christ according to the Julian calendar. It is one of Egypt's most important religious holidays and a sign of the country's long Christian heritage and coexistence. Churches hold midnight liturgies\, families gather for festive meals\, and many neighborhoods visit churches and relatives. Public life slows down and government offices close\, while some shops and services operate with limited hours. The day matters nationally because it recognizes the Coptic Church's historic role in Egyptian identity. If the date falls on a weekend\, the government may move the day off to a nearby Thursday.
URL:https://publicholidaysin.com/egypt/2003
STATUS:CONFIRMED
TRANSP:TRANSPARENT
END:VEVENT
BEGIN:VEVENT
UID:Revolution Day 2011 / National Police Day-2003-01-25@publicholidaysin.com
DTSTAMP:20260422T004555Z
DTSTART;VALUE=DATE:20030125
DTEND;VALUE=DATE:20030126
SUMMARY:عيد الثورة 25 يناير
DESCRIPTION:This is a public holiday in Egypt.
URL:https://publicholidaysin.com/egypt/2003
STATUS:CONFIRMED
TRANSP:TRANSPARENT
END:VEVENT
BEGIN:VEVENT
UID:Sinai Liberation Day-2003-04-25@publicholidaysin.com
DTSTAMP:20260422T004555Z
DTSTART;VALUE=DATE:20030425
DTEND;VALUE=DATE:20030426
SUMMARY:عيد تحرير سيناء
DESCRIPTION:Sinai Liberation Day marks the withdrawal of Israeli forces from the Sinai Peninsula in 1982 after the Egypt-Israel Peace Treaty. The day symbolizes the restoration of Egyptian sovereignty over Sinai and is an important milestone in the country's modern diplomatic history. Official celebrations\, military tributes\, and patriotic events are held nationwide\, and schools often highlight the historical context. Many government services close\, and businesses may operate on reduced schedules. It matters as a reminder of national unity and territorial integrity\, and televised programs often emphasize Sinai's strategic role. If it falls on a weekend\, authorities sometimes move the day off to a nearby Thursday.
URL:https://publicholidaysin.com/egypt/2003
STATUS:CONFIRMED
TRANSP:TRANSPARENT
END:VEVENT
BEGIN:VEVENT
UID:Labour Day-2003-05-01@publicholidaysin.com
DTSTAMP:20260422T004555Z
DTSTART;VALUE=DATE:20030501
DTEND;VALUE=DATE:20030502
SUMMARY:عيد العمال
DESCRIPTION:Labour Day in Egypt celebrates the contributions of workers across all sectors of the economy. It is observed as a nationwide public holiday\, with official speeches and events highlighting workers' rights\, productivity\, and social development. Public institutions and many businesses close or operate on reduced schedules. The day matters because labor and public service are central to Egypt's economic and social life\, and unions often highlight workplace achievements. Many families use the day for rest and local outings. In some years\, the government may shift the day off to a nearby Thursday if the holiday falls on a weekend\, but the calendar date remains the official observance.
URL:https://publicholidaysin.com/egypt/2003
STATUS:CONFIRMED
TRANSP:TRANSPARENT
END:VEVENT
BEGIN:VEVENT
UID:Revolution Day-2003-07-23@publicholidaysin.com
DTSTAMP:20260422T004555Z
DTSTART;VALUE=DATE:20030723
DTEND;VALUE=DATE:20030724
SUMMARY:عيد ثورة 23 يوليو
DESCRIPTION:Revolution Day celebrates the 1952 Egyptian Revolution\, which ended the monarchy and led to the establishment of the modern republic. It is one of the most historically significant national holidays in Egypt and honors figures such as the Free Officers Movement. The day is observed nationwide with official ceremonies\, patriotic media\, and public events. It matters as a foundation of modern Egyptian statehood and is distinct from the 2011 Revolution Day on January 25. Museums and documentaries often revisit the era to explain its long term impact. As a public holiday\, many offices close or reduce hours\, and authorities may move the day off to a nearby Thursday in some years.
URL:https://publicholidaysin.com/egypt/2003
STATUS:CONFIRMED
TRANSP:TRANSPARENT
END:VEVENT
BEGIN:VEVENT
UID:Armed Forces Day-2003-10-06@publicholidaysin.com
DTSTAMP:20260422T004555Z
DTSTART;VALUE=DATE:20031006
DTEND;VALUE=DATE:20031007
SUMMARY:عيد القوات المسلحة
DESCRIPTION:Armed Forces Day commemorates the start of the October War of 1973\, when Egyptian forces crossed the Suez Canal during the conflict with Israel. The holiday honors the military and its role in defending national sovereignty and is a key date in modern Egyptian history. Military parades\, official speeches\, and commemorative events take place across the country\, often alongside educational programming. It is a nationwide public holiday\, with closures in government offices and reduced business hours. The day matters as a symbol of national pride and sacrifice\, and the day off can be moved by government decision in some years. Veterans and families are often recognized in local ceremonies.
URL:https://publicholidaysin.com/egypt/2003
STATUS:CONFIRMED
TRANSP:TRANSPARENT
END:VEVENT
END:VCALENDAR
