BEGIN:VCALENDAR
VERSION:2.0
PRODID:-//PublicHolidaysIn//Holiday Calendar//EN
CALSCALE:GREGORIAN
METHOD:PUBLISH
X-WR-CALNAME:Canada Public Holidays 2100
X-WR-CALDESC:Public holidays in Canada for 2100.
BEGIN:VEVENT
UID:Victoria Day-2100-05-24@publicholidaysin.com
DTSTAMP:20260420T122816Z
DTSTART;VALUE=DATE:21000524
DTEND;VALUE=DATE:21000525
SUMMARY:Victoria Day
DESCRIPTION:Victoria Day (Monday on or before May 24) unofficially launches Canadian summer. Known as the ‘May long weekend\,’ it features cottage openings\, gardening\, and fireworks. In Quebec the day coincides with National Patriots’ Day\, commemorating the 1837–38 rebellions-two traditions marking history and the new season together.
URL:https://publicholidaysin.com/canada/2100
STATUS:CONFIRMED
TRANSP:TRANSPARENT
END:VEVENT
BEGIN:VEVENT
UID:Labour Day-2100-09-06@publicholidaysin.com
DTSTAMP:20260420T122816Z
DTSTART;VALUE=DATE:21000906
DTEND;VALUE=DATE:21000907
SUMMARY:Labour Day
DESCRIPTION:Labour Day (first Monday in September) honours workers and the labour movement. Parades\, picnics\, and union events mark the end of summer and the start of a new school year. It’s a time to reflect on workplace rights and the contributions of workers across the country.
URL:https://publicholidaysin.com/canada/2100
STATUS:CONFIRMED
TRANSP:TRANSPARENT
END:VEVENT
BEGIN:VEVENT
UID:Thanksgiving-2100-10-11@publicholidaysin.com
DTSTAMP:20260420T122816Z
DTSTART;VALUE=DATE:21001011
DTEND;VALUE=DATE:21001012
SUMMARY:Thanksgiving
DESCRIPTION:Thanksgiving (second Monday in October) is a harvest-season gathering with family dinners\, fall colours\, and regional dishes-from turkey and stuffing to pumpkin pie and butter tarts. Many communities host food drives and charity runs\, celebrating gratitude and the bounty of autumn.
URL:https://publicholidaysin.com/canada/2100
STATUS:CONFIRMED
TRANSP:TRANSPARENT
END:VEVENT
END:VCALENDAR
