BEGIN:VCALENDAR
VERSION:2.0
PRODID:-//PublicHolidaysIn//Holiday Calendar//EN
CALSCALE:GREGORIAN
METHOD:PUBLISH
X-WR-CALNAME:Canada Public Holidays 1911
X-WR-CALDESC:Public holidays in Canada for 1911.
BEGIN:VEVENT
UID:Victoria Day-1911-05-22@publicholidaysin.com
DTSTAMP:20260422T163018Z
DTSTART;VALUE=DATE:19110522
DTEND;VALUE=DATE:19110523
SUMMARY:Victoria Day
DESCRIPTION:Victoria Day (Monday on or before May 24) unofficially launches Canadian summer. Known as the ‘May long weekend\,’ it features cottage openings\, gardening\, and fireworks. In Quebec the day coincides with National Patriots’ Day\, commemorating the 1837–38 rebellions-two traditions marking history and the new season together.
URL:https://publicholidaysin.com/canada/1911
STATUS:CONFIRMED
TRANSP:TRANSPARENT
END:VEVENT
BEGIN:VEVENT
UID:Labour Day-1911-09-04@publicholidaysin.com
DTSTAMP:20260422T163018Z
DTSTART;VALUE=DATE:19110904
DTEND;VALUE=DATE:19110905
SUMMARY:Labour Day
DESCRIPTION:Labour Day (first Monday in September) honours workers and the labour movement. Parades\, picnics\, and union events mark the end of summer and the start of a new school year. It’s a time to reflect on workplace rights and the contributions of workers across the country.
URL:https://publicholidaysin.com/canada/1911
STATUS:CONFIRMED
TRANSP:TRANSPARENT
END:VEVENT
BEGIN:VEVENT
UID:Thanksgiving-1911-10-09@publicholidaysin.com
DTSTAMP:20260422T163018Z
DTSTART;VALUE=DATE:19111009
DTEND;VALUE=DATE:19111010
SUMMARY:Thanksgiving
DESCRIPTION:Thanksgiving (second Monday in October) is a harvest-season gathering with family dinners\, fall colours\, and regional dishes-from turkey and stuffing to pumpkin pie and butter tarts. Many communities host food drives and charity runs\, celebrating gratitude and the bounty of autumn.
URL:https://publicholidaysin.com/canada/1911
STATUS:CONFIRMED
TRANSP:TRANSPARENT
END:VEVENT
END:VCALENDAR
