BEGIN:VCALENDAR
VERSION:2.0
PRODID:-//PublicHolidaysIn//Holiday Calendar//EN
CALSCALE:GREGORIAN
METHOD:PUBLISH
X-WR-CALNAME:Brazil Public Holidays 1986
X-WR-CALDESC:Public holidays in Brazil for 1986.
BEGIN:VEVENT
UID:new_years_day-1986-01-01@publicholidaysin.com
DTSTAMP:20260423T012141Z
DTSTART;VALUE=DATE:19860101
DTEND;VALUE=DATE:19860102
SUMMARY:Confraternização Universal
DESCRIPTION:New Year’s Day (Confraternização Universal\, January 1) opens Brazil’s year with family lunches\, music on the beach and\, in many cities\, a continuation of the New Year’s Eve celebrations from the night before. In coastal areas people greet the sea\, wear white for peace\, and make small offerings - a reflection of Brazil’s blend of Catholic and Afro-Brazilian traditions.
URL:https://publicholidaysin.com/brazil/1986
STATUS:CONFIRMED
TRANSP:TRANSPARENT
END:VEVENT
BEGIN:VEVENT
UID:carnival-1986-02-10@publicholidaysin.com
DTSTAMP:20260423T012141Z
DTSTART;VALUE=DATE:19860210
DTEND;VALUE=DATE:19860211
SUMMARY:Segunda-feira de Carnaval
DESCRIPTION:Carnival (Carnaval\, date varies) is Brazil’s most iconic celebration - days of parades\, blocos (street parties)\, samba schools\, costumes and joy before Lent. Carnival Monday and Tuesday are ponto facultativo (optional days off) for the public sector and widely observed nationwide\, but they are not statutory holidays for private employers unless local law or collective agreements apply. Rio\, Salvador\, Recife and Olinda each have their own Carnival style\, from samba parades to frevo and axé.
URL:https://publicholidaysin.com/brazil/1986
STATUS:CONFIRMED
TRANSP:TRANSPARENT
END:VEVENT
BEGIN:VEVENT
UID:carnival-1986-02-11@publicholidaysin.com
DTSTAMP:20260423T012141Z
DTSTART;VALUE=DATE:19860211
DTEND;VALUE=DATE:19860212
SUMMARY:Terça-feira de Carnaval
DESCRIPTION:Carnival (Carnaval\, date varies) is Brazil’s most iconic celebration - days of parades\, blocos (street parties)\, samba schools\, costumes and joy before Lent. Carnival Monday and Tuesday are ponto facultativo (optional days off) for the public sector and widely observed nationwide\, but they are not statutory holidays for private employers unless local law or collective agreements apply. Rio\, Salvador\, Recife and Olinda each have their own Carnival style\, from samba parades to frevo and axé.
URL:https://publicholidaysin.com/brazil/1986
STATUS:CONFIRMED
TRANSP:TRANSPARENT
END:VEVENT
BEGIN:VEVENT
UID:ash_wednesday-1986-02-12@publicholidaysin.com
DTSTAMP:20260423T012141Z
DTSTART;VALUE=DATE:19860212
DTEND;VALUE=DATE:19860213
SUMMARY:Quarta-feira de Cinzas
DESCRIPTION:Ash Wednesday (Quarta-feira de Cinzas\, date varies) marks the end of Carnival and the beginning of Lent. It is a ponto facultativo until 2:00 PM\, so many public services and banks resume only in the afternoon. The mood shifts from festivity to reflection\, and for many Brazilians it is also the day to recover from Carnival.
URL:https://publicholidaysin.com/brazil/1986
STATUS:CONFIRMED
TRANSP:TRANSPARENT
END:VEVENT
BEGIN:VEVENT
UID:good_friday-1986-03-28@publicholidaysin.com
DTSTAMP:20260423T012141Z
DTSTART;VALUE=DATE:19860328
DTEND;VALUE=DATE:19860329
SUMMARY:Sexta-feira Santa
DESCRIPTION:Good Friday (Sexta-feira Santa\, date varies) is widely observed across Brazil with church services\, processions and quiet family meals. Many Brazilians eat fish or seafood instead of meat on this day. In some cities\, theatrical reenactments of the Passion of Christ attract large crowds.
URL:https://publicholidaysin.com/brazil/1986
STATUS:CONFIRMED
TRANSP:TRANSPARENT
END:VEVENT
BEGIN:VEVENT
UID:tiradentes-1986-04-21@publicholidaysin.com
DTSTAMP:20260423T012141Z
DTSTART;VALUE=DATE:19860421
DTEND;VALUE=DATE:19860422
SUMMARY:Dia de Tiradentes
DESCRIPTION:Tiradentes Day (Dia de Tiradentes\, April 21) honors Joaquim José da Silva Xavier\, known as Tiradentes\, a martyr of the Inconfidência Mineira\, an 18th-century independence movement in Minas Gerais. He is remembered as a symbol of resistance\, republican ideals and the struggle for Brazilian autonomy.
URL:https://publicholidaysin.com/brazil/1986
STATUS:CONFIRMED
TRANSP:TRANSPARENT
END:VEVENT
BEGIN:VEVENT
UID:labour_day-1986-05-01@publicholidaysin.com
DTSTAMP:20260423T012141Z
DTSTART;VALUE=DATE:19860501
DTEND;VALUE=DATE:19860502
SUMMARY:Dia do Trabalhador
DESCRIPTION:Labour Day (Dia do Trabalhador\, May 1) celebrates Brazilian workers and trade-union movements. Public events\, concerts and political speeches are common\, especially in São Paulo. For many families it is also a day to rest\, barbecue and enjoy the autumn weather.
URL:https://publicholidaysin.com/brazil/1986
STATUS:CONFIRMED
TRANSP:TRANSPARENT
END:VEVENT
BEGIN:VEVENT
UID:corpus_christi-1986-05-29@publicholidaysin.com
DTSTAMP:20260423T012141Z
DTSTART;VALUE=DATE:19860529
DTEND;VALUE=DATE:19860530
SUMMARY:Corpus Christi
DESCRIPTION:Corpus Christi (date varies) is a Catholic feast with strong visual traditions in Brazil. Many cities create long\, colorful carpets on the streets using sawdust\, sand and flowers\, over which the religious procession passes. Federally it is a ponto facultativo\, while it is a statutory public holiday in São Paulo (city) and in Rio de Janeiro (state).
URL:https://publicholidaysin.com/brazil/1986
STATUS:CONFIRMED
TRANSP:TRANSPARENT
END:VEVENT
BEGIN:VEVENT
UID:brazil_independence_day-1986-09-07@publicholidaysin.com
DTSTAMP:20260423T012141Z
DTSTART;VALUE=DATE:19860907
DTEND;VALUE=DATE:19860908
SUMMARY:Independência do Brasil
DESCRIPTION:Independence Day (Independência do Brasil\, September 7) commemorates Dom Pedro I’s 1822 proclamation of independence on the banks of the Ipiranga River. Military parades\, civic ceremonies and school activities take place across the country. In Brasília\, the official parade highlights the armed forces and national symbols.
URL:https://publicholidaysin.com/brazil/1986
STATUS:CONFIRMED
TRANSP:TRANSPARENT
END:VEVENT
BEGIN:VEVENT
UID:our_lady_aparecida-1986-10-12@publicholidaysin.com
DTSTAMP:20260423T012141Z
DTSTART;VALUE=DATE:19861012
DTEND;VALUE=DATE:19861013
SUMMARY:Nossa Senhora Aparecida
DESCRIPTION:Our Lady of Aparecida (Nossa Senhora Aparecida\, October 12) is Brazil’s national patron saint day - and\, coincidentally\, also Children’s Day. Pilgrims travel to the shrine in Aparecida (São Paulo state)\, while families celebrate children with gifts and outings. It is one of Brazil’s most beloved holidays\, uniting faith\, family and childhood.
URL:https://publicholidaysin.com/brazil/1986
STATUS:CONFIRMED
TRANSP:TRANSPARENT
END:VEVENT
BEGIN:VEVENT
UID:Civil Servants' Day-1986-10-28@publicholidaysin.com
DTSTAMP:20260423T012141Z
DTSTART;VALUE=DATE:19861028
DTEND;VALUE=DATE:19861029
SUMMARY:Dia do Servidor Público
DESCRIPTION:This is a public holiday in Brazil.
URL:https://publicholidaysin.com/brazil/1986
STATUS:CONFIRMED
TRANSP:TRANSPARENT
END:VEVENT
BEGIN:VEVENT
UID:all_souls_day-1986-11-02@publicholidaysin.com
DTSTAMP:20260423T012141Z
DTSTART;VALUE=DATE:19861102
DTEND;VALUE=DATE:19861103
SUMMARY:Finados
DESCRIPTION:All Souls’ Day (Dia de Finados\, November 2) is a day of remembrance for loved ones who have passed away. Brazilians visit cemeteries\, bring flowers and pray. It is a quiet\, reflective holiday in contrast to Brazil’s more festive dates.
URL:https://publicholidaysin.com/brazil/1986
STATUS:CONFIRMED
TRANSP:TRANSPARENT
END:VEVENT
BEGIN:VEVENT
UID:republic_proclamation-1986-11-15@publicholidaysin.com
DTSTAMP:20260423T012141Z
DTSTART;VALUE=DATE:19861115
DTEND;VALUE=DATE:19861116
SUMMARY:Proclamação da República
DESCRIPTION:Proclamation of the Republic (Proclamação da República\, November 15) marks the 1889 overthrow of the monarchy and the birth of the Brazilian Republic. Official ceremonies recall the transition from imperial Brazil to a republican system. For many people it also creates a November holiday cluster together with Finados and\, in some places\, Black Consciousness Day.
URL:https://publicholidaysin.com/brazil/1986
STATUS:CONFIRMED
TRANSP:TRANSPARENT
END:VEVENT
BEGIN:VEVENT
UID:black_consciousness_day-1986-11-20@publicholidaysin.com
DTSTAMP:20260423T012141Z
DTSTART;VALUE=DATE:19861120
DTEND;VALUE=DATE:19861121
SUMMARY:Dia da Consciência Negra
DESCRIPTION:Black Consciousness Day (Dia da Consciência Negra\, November 20) honors Afro-Brazilian history\, the struggle against slavery and the legacy of Zumbi dos Palmares. It is a national public holiday in Brazil since 2024\, with cultural events\, debates and performances celebrating Black identity and calling for racial equality.
URL:https://publicholidaysin.com/brazil/1986
STATUS:CONFIRMED
TRANSP:TRANSPARENT
END:VEVENT
BEGIN:VEVENT
UID:christmas_day-1986-12-24@publicholidaysin.com
DTSTAMP:20260423T012141Z
DTSTART;VALUE=DATE:19861224
DTEND;VALUE=DATE:19861225
SUMMARY:Véspera de Natal
DESCRIPTION:Christmas Day (Natal\, December 25) in Brazil is warm\, family-centered and influenced by both European and tropical traditions. Families gather on Christmas Eve\, exchange gifts at midnight and enjoy dishes like bacalhau\, turkey\, farofa and panettone. Churches hold Christmas Mass\, and cities such as Gramado and Curitiba prepare elaborate Christmas decorations.
URL:https://publicholidaysin.com/brazil/1986
STATUS:CONFIRMED
TRANSP:TRANSPARENT
END:VEVENT
BEGIN:VEVENT
UID:christmas_day-1986-12-25@publicholidaysin.com
DTSTAMP:20260423T012141Z
DTSTART;VALUE=DATE:19861225
DTEND;VALUE=DATE:19861226
SUMMARY:Natal
DESCRIPTION:Christmas Day (Natal\, December 25) in Brazil is warm\, family-centered and influenced by both European and tropical traditions. Families gather on Christmas Eve\, exchange gifts at midnight and enjoy dishes like bacalhau\, turkey\, farofa and panettone. Churches hold Christmas Mass\, and cities such as Gramado and Curitiba prepare elaborate Christmas decorations.
URL:https://publicholidaysin.com/brazil/1986
STATUS:CONFIRMED
TRANSP:TRANSPARENT
END:VEVENT
BEGIN:VEVENT
UID:new_years_day-1986-12-31@publicholidaysin.com
DTSTAMP:20260423T012141Z
DTSTART;VALUE=DATE:19861231
DTEND;VALUE=DATE:19870101
SUMMARY:Véspera de Ano Novo
DESCRIPTION:New Year’s Day (Confraternização Universal\, January 1) opens Brazil’s year with family lunches\, music on the beach and\, in many cities\, a continuation of the New Year’s Eve celebrations from the night before. In coastal areas people greet the sea\, wear white for peace\, and make small offerings - a reflection of Brazil’s blend of Catholic and Afro-Brazilian traditions.
URL:https://publicholidaysin.com/brazil/1986
STATUS:CONFIRMED
TRANSP:TRANSPARENT
END:VEVENT
END:VCALENDAR
