BEGIN:VCALENDAR
VERSION:2.0
PRODID:-//PublicHolidaysIn//Holiday Calendar//EN
CALSCALE:GREGORIAN
METHOD:PUBLISH
X-WR-CALNAME:Belarus Public Holidays 2031
X-WR-CALDESC:Public holidays in Belarus for 2031.
BEGIN:VEVENT
UID:New Year's Day-2031-01-01@publicholidaysin.com
DTSTAMP:20260420T195307Z
DTSTART;VALUE=DATE:20310101
DTEND;VALUE=DATE:20310102
SUMMARY:Новы год
DESCRIPTION:New Year’s Day is one of Belarus’s biggest family holidays. After midnight fireworks and gatherings\, the day is quiet and home‑centered\, with festive meals and time with relatives.
URL:https://publicholidaysin.com/belarus/2031
STATUS:CONFIRMED
TRANSP:TRANSPARENT
END:VEVENT
BEGIN:VEVENT
UID:New Year's Day-2031-01-02@publicholidaysin.com
DTSTAMP:20260420T195307Z
DTSTART;VALUE=DATE:20310102
DTEND;VALUE=DATE:20310103
SUMMARY:Новы год
DESCRIPTION:New Year’s Day is one of Belarus’s biggest family holidays. After midnight fireworks and gatherings\, the day is quiet and home‑centered\, with festive meals and time with relatives.
URL:https://publicholidaysin.com/belarus/2031
STATUS:CONFIRMED
TRANSP:TRANSPARENT
END:VEVENT
BEGIN:VEVENT
UID:Christmas Day (Orthodox)-2031-01-07@publicholidaysin.com
DTSTAMP:20260420T195307Z
DTSTART;VALUE=DATE:20310107
DTEND;VALUE=DATE:20310108
SUMMARY:Каляды праваслаўныя
DESCRIPTION:Orthodox Christmas on January 7 is celebrated with church services and family feasts. It is a major religious holiday\, especially in traditional communities.
URL:https://publicholidaysin.com/belarus/2031
STATUS:CONFIRMED
TRANSP:TRANSPARENT
END:VEVENT
BEGIN:VEVENT
UID:International Women's Day-2031-03-08@publicholidaysin.com
DTSTAMP:20260420T195307Z
DTSTART;VALUE=DATE:20310308
DTEND;VALUE=DATE:20310309
SUMMARY:Мiжнародны жаночы дзень
DESCRIPTION:International Women’s Day is widely celebrated with flowers\, gifts\, and family dinners. It has both a civic and cultural character in Belarus.
URL:https://publicholidaysin.com/belarus/2031
STATUS:CONFIRMED
TRANSP:TRANSPARENT
END:VEVENT
BEGIN:VEVENT
UID:Commemoration Day-2031-04-22@publicholidaysin.com
DTSTAMP:20260420T195307Z
DTSTART;VALUE=DATE:20310422
DTEND;VALUE=DATE:20310423
SUMMARY:Радунiца
DESCRIPTION:This is a public holiday in Belarus.
URL:https://publicholidaysin.com/belarus/2031
STATUS:CONFIRMED
TRANSP:TRANSPARENT
END:VEVENT
BEGIN:VEVENT
UID:Labour Day-2031-05-01@publicholidaysin.com
DTSTAMP:20260420T195307Z
DTSTART;VALUE=DATE:20310501
DTEND;VALUE=DATE:20310502
SUMMARY:Дзень працы
DESCRIPTION:Labour Day is a spring holiday often spent outdoors with family and friends. Parks and city squares are busy with concerts and public events.
URL:https://publicholidaysin.com/belarus/2031
STATUS:CONFIRMED
TRANSP:TRANSPARENT
END:VEVENT
BEGIN:VEVENT
UID:Victory Day-2031-05-09@publicholidaysin.com
DTSTAMP:20260420T195307Z
DTSTART;VALUE=DATE:20310509
DTEND;VALUE=DATE:20310510
SUMMARY:Дзень Перамогi
DESCRIPTION:Victory Day on May 9 is one of the most important national holidays\, commemorating the end of World War II. Parades\, memorial ceremonies\, and fireworks are common nationwide.
URL:https://publicholidaysin.com/belarus/2031
STATUS:CONFIRMED
TRANSP:TRANSPARENT
END:VEVENT
BEGIN:VEVENT
UID:Independence Day-2031-07-03@publicholidaysin.com
DTSTAMP:20260420T195307Z
DTSTART;VALUE=DATE:20310703
DTEND;VALUE=DATE:20310704
SUMMARY:Дзень Незалежнасцi
DESCRIPTION:Independence Day on July 3 marks the liberation of Minsk in 1944 and is Belarus’s main national holiday. Expect concerts\, official ceremonies\, and large fireworks displays.
URL:https://publicholidaysin.com/belarus/2031
STATUS:CONFIRMED
TRANSP:TRANSPARENT
END:VEVENT
BEGIN:VEVENT
UID:October Revolution Day-2031-11-07@publicholidaysin.com
DTSTAMP:20260420T195307Z
DTSTART;VALUE=DATE:20311107
DTEND;VALUE=DATE:20311108
SUMMARY:Дзень Кастрычніцкай рэвалюцыі
DESCRIPTION:October Revolution Day remembers the 1917 Revolution. It is observed with official events and a traditional day off.
URL:https://publicholidaysin.com/belarus/2031
STATUS:CONFIRMED
TRANSP:TRANSPARENT
END:VEVENT
BEGIN:VEVENT
UID:Catholic Christmas Day-2031-12-25@publicholidaysin.com
DTSTAMP:20260420T195307Z
DTSTART;VALUE=DATE:20311225
DTEND;VALUE=DATE:20311226
SUMMARY:Каляды каталiцкiя
DESCRIPTION:Catholic Christmas on December 25 is observed by Belarus’s Catholic communities\, especially in the west. Church services and family meals mark the day.
URL:https://publicholidaysin.com/belarus/2031
STATUS:CONFIRMED
TRANSP:TRANSPARENT
END:VEVENT
END:VCALENDAR
