BEGIN:VCALENDAR
VERSION:2.0
PRODID:-//PublicHolidaysIn//Holiday Calendar//EN
CALSCALE:GREGORIAN
METHOD:PUBLISH
X-WR-CALNAME:Belarus Public Holidays 2021
X-WR-CALDESC:Public holidays in Belarus for 2021.
BEGIN:VEVENT
UID:New Year's Day-2021-01-01@publicholidaysin.com
DTSTAMP:20260420T195300Z
DTSTART;VALUE=DATE:20210101
DTEND;VALUE=DATE:20210102
SUMMARY:Новы год
DESCRIPTION:New Year’s Day is one of Belarus’s biggest family holidays. After midnight fireworks and gatherings\, the day is quiet and home‑centered\, with festive meals and time with relatives.
URL:https://publicholidaysin.com/belarus/2021
STATUS:CONFIRMED
TRANSP:TRANSPARENT
END:VEVENT
BEGIN:VEVENT
UID:New Year's Day-2021-01-02@publicholidaysin.com
DTSTAMP:20260420T195300Z
DTSTART;VALUE=DATE:20210102
DTEND;VALUE=DATE:20210103
SUMMARY:Новы год
DESCRIPTION:New Year’s Day is one of Belarus’s biggest family holidays. After midnight fireworks and gatherings\, the day is quiet and home‑centered\, with festive meals and time with relatives.
URL:https://publicholidaysin.com/belarus/2021
STATUS:CONFIRMED
TRANSP:TRANSPARENT
END:VEVENT
BEGIN:VEVENT
UID:Christmas Day (Orthodox)-2021-01-07@publicholidaysin.com
DTSTAMP:20260420T195300Z
DTSTART;VALUE=DATE:20210107
DTEND;VALUE=DATE:20210108
SUMMARY:Каляды праваслаўныя
DESCRIPTION:Orthodox Christmas on January 7 is celebrated with church services and family feasts. It is a major religious holiday\, especially in traditional communities.
URL:https://publicholidaysin.com/belarus/2021
STATUS:CONFIRMED
TRANSP:TRANSPARENT
END:VEVENT
BEGIN:VEVENT
UID:International Women's Day-2021-03-08@publicholidaysin.com
DTSTAMP:20260420T195300Z
DTSTART;VALUE=DATE:20210308
DTEND;VALUE=DATE:20210309
SUMMARY:Мiжнародны жаночы дзень
DESCRIPTION:International Women’s Day is widely celebrated with flowers\, gifts\, and family dinners. It has both a civic and cultural character in Belarus.
URL:https://publicholidaysin.com/belarus/2021
STATUS:CONFIRMED
TRANSP:TRANSPARENT
END:VEVENT
BEGIN:VEVENT
UID:Labour Day-2021-05-01@publicholidaysin.com
DTSTAMP:20260420T195300Z
DTSTART;VALUE=DATE:20210501
DTEND;VALUE=DATE:20210502
SUMMARY:Дзень працы
DESCRIPTION:Labour Day is a spring holiday often spent outdoors with family and friends. Parks and city squares are busy with concerts and public events.
URL:https://publicholidaysin.com/belarus/2021
STATUS:CONFIRMED
TRANSP:TRANSPARENT
END:VEVENT
BEGIN:VEVENT
UID:Victory Day-2021-05-09@publicholidaysin.com
DTSTAMP:20260420T195300Z
DTSTART;VALUE=DATE:20210509
DTEND;VALUE=DATE:20210510
SUMMARY:Дзень Перамогi
DESCRIPTION:Victory Day on May 9 is one of the most important national holidays\, commemorating the end of World War II. Parades\, memorial ceremonies\, and fireworks are common nationwide.
URL:https://publicholidaysin.com/belarus/2021
STATUS:CONFIRMED
TRANSP:TRANSPARENT
END:VEVENT
BEGIN:VEVENT
UID:Commemoration Day-2021-05-11@publicholidaysin.com
DTSTAMP:20260420T195300Z
DTSTART;VALUE=DATE:20210511
DTEND;VALUE=DATE:20210512
SUMMARY:Радунiца
DESCRIPTION:This is a public holiday in Belarus.
URL:https://publicholidaysin.com/belarus/2021
STATUS:CONFIRMED
TRANSP:TRANSPARENT
END:VEVENT
BEGIN:VEVENT
UID:Independence Day-2021-07-03@publicholidaysin.com
DTSTAMP:20260420T195300Z
DTSTART;VALUE=DATE:20210703
DTEND;VALUE=DATE:20210704
SUMMARY:Дзень Незалежнасцi
DESCRIPTION:Independence Day on July 3 marks the liberation of Minsk in 1944 and is Belarus’s main national holiday. Expect concerts\, official ceremonies\, and large fireworks displays.
URL:https://publicholidaysin.com/belarus/2021
STATUS:CONFIRMED
TRANSP:TRANSPARENT
END:VEVENT
BEGIN:VEVENT
UID:October Revolution Day-2021-11-07@publicholidaysin.com
DTSTAMP:20260420T195300Z
DTSTART;VALUE=DATE:20211107
DTEND;VALUE=DATE:20211108
SUMMARY:Дзень Кастрычніцкай рэвалюцыі
DESCRIPTION:October Revolution Day remembers the 1917 Revolution. It is observed with official events and a traditional day off.
URL:https://publicholidaysin.com/belarus/2021
STATUS:CONFIRMED
TRANSP:TRANSPARENT
END:VEVENT
BEGIN:VEVENT
UID:Catholic Christmas Day-2021-12-25@publicholidaysin.com
DTSTAMP:20260420T195300Z
DTSTART;VALUE=DATE:20211225
DTEND;VALUE=DATE:20211226
SUMMARY:Каляды каталiцкiя
DESCRIPTION:Catholic Christmas on December 25 is observed by Belarus’s Catholic communities\, especially in the west. Church services and family meals mark the day.
URL:https://publicholidaysin.com/belarus/2021
STATUS:CONFIRMED
TRANSP:TRANSPARENT
END:VEVENT
END:VCALENDAR
