BEGIN:VCALENDAR
VERSION:2.0
PRODID:-//PublicHolidaysIn//Holiday Calendar//EN
CALSCALE:GREGORIAN
METHOD:PUBLISH
X-WR-CALNAME:Armenia Public Holidays 2027
X-WR-CALDESC:Public holidays in Armenia for 2027.
BEGIN:VEVENT
UID:New Year's Day-2027-01-01@publicholidaysin.com
DTSTAMP:20260420T132515Z
DTSTART;VALUE=DATE:20270101
DTEND;VALUE=DATE:20270102
SUMMARY:New Year's Day
DESCRIPTION:New Year’s Day in Armenia begins a long winter holiday season with family visits\, festive meals\, and quiet city streets. Many people spend the day at home recovering from late‑night celebrations.
URL:https://publicholidaysin.com/armenia/2027
STATUS:CONFIRMED
TRANSP:TRANSPARENT
END:VEVENT
BEGIN:VEVENT
UID:New Year's Day-2027-01-02@publicholidaysin.com
DTSTAMP:20260420T132515Z
DTSTART;VALUE=DATE:20270102
DTEND;VALUE=DATE:20270103
SUMMARY:New Year's Day
DESCRIPTION:New Year’s Day in Armenia begins a long winter holiday season with family visits\, festive meals\, and quiet city streets. Many people spend the day at home recovering from late‑night celebrations.
URL:https://publicholidaysin.com/armenia/2027
STATUS:CONFIRMED
TRANSP:TRANSPARENT
END:VEVENT
BEGIN:VEVENT
UID:Christmas-2027-01-06@publicholidaysin.com
DTSTAMP:20260420T132515Z
DTSTART;VALUE=DATE:20270106
DTEND;VALUE=DATE:20270107
SUMMARY:Christmas
DESCRIPTION:Armenian Christmas is celebrated on January 6 with church services\, candlelight\, and traditional foods. It is one of the most important religious holidays of the year.
URL:https://publicholidaysin.com/armenia/2027
STATUS:CONFIRMED
TRANSP:TRANSPARENT
END:VEVENT
BEGIN:VEVENT
UID:Remembrance Day for Those Who Died in Defense of the Homeland-2027-01-27@publicholidaysin.com
DTSTAMP:20260420T132515Z
DTSTART;VALUE=DATE:20270127
DTEND;VALUE=DATE:20270128
SUMMARY:Remembrance Day for Those Who Died in Defense of the Homeland
DESCRIPTION:Remembrance Day for Those Who Died in Defense of the Homeland honors fallen soldiers and defenders. Ceremonies and memorial visits highlight the day’s solemn\, patriotic tone.
URL:https://publicholidaysin.com/armenia/2027
STATUS:CONFIRMED
TRANSP:TRANSPARENT
END:VEVENT
BEGIN:VEVENT
UID:Army Day-2027-01-28@publicholidaysin.com
DTSTAMP:20260420T132515Z
DTSTART;VALUE=DATE:20270128
DTEND;VALUE=DATE:20270129
SUMMARY:Army Day
DESCRIPTION:Army Day celebrates the Armenian Armed Forces with official ceremonies\, wreath‑laying\, and public recognition of military service.
URL:https://publicholidaysin.com/armenia/2027
STATUS:CONFIRMED
TRANSP:TRANSPARENT
END:VEVENT
BEGIN:VEVENT
UID:International Women's Day-2027-03-08@publicholidaysin.com
DTSTAMP:20260420T132515Z
DTSTART;VALUE=DATE:20270308
DTEND;VALUE=DATE:20270309
SUMMARY:International Women's Day
DESCRIPTION:International Women’s Day is widely celebrated with flowers\, family gatherings\, and public events honoring women’s contributions in society.
URL:https://publicholidaysin.com/armenia/2027
STATUS:CONFIRMED
TRANSP:TRANSPARENT
END:VEVENT
BEGIN:VEVENT
UID:Armenian Genocide Remembrance Day-2027-04-24@publicholidaysin.com
DTSTAMP:20260420T132515Z
DTSTART;VALUE=DATE:20270424
DTEND;VALUE=DATE:20270425
SUMMARY:Armenian Genocide Remembrance Day
DESCRIPTION:Armenian Genocide Remembrance Day is a deeply solemn national observance. Thousands visit the Tsitsernakaberd memorial in Yerevan to lay flowers and pay respects.
URL:https://publicholidaysin.com/armenia/2027
STATUS:CONFIRMED
TRANSP:TRANSPARENT
END:VEVENT
BEGIN:VEVENT
UID:Labour Day-2027-05-01@publicholidaysin.com
DTSTAMP:20260420T132515Z
DTSTART;VALUE=DATE:20270501
DTEND;VALUE=DATE:20270502
SUMMARY:Labour Day
DESCRIPTION:Labour Day is a nationwide day off often spent with family outings\, park visits\, and springtime gatherings.
URL:https://publicholidaysin.com/armenia/2027
STATUS:CONFIRMED
TRANSP:TRANSPARENT
END:VEVENT
BEGIN:VEVENT
UID:Victory and Peace Day-2027-05-09@publicholidaysin.com
DTSTAMP:20260420T132515Z
DTSTART;VALUE=DATE:20270509
DTEND;VALUE=DATE:20270510
SUMMARY:Victory and Peace Day
DESCRIPTION:Victory and Peace Day marks the end of World War II and celebrates peace. Parades\, concerts\, and remembrance events are common across the country.
URL:https://publicholidaysin.com/armenia/2027
STATUS:CONFIRMED
TRANSP:TRANSPARENT
END:VEVENT
BEGIN:VEVENT
UID:Republic Day-2027-05-28@publicholidaysin.com
DTSTAMP:20260420T132515Z
DTSTART;VALUE=DATE:20270528
DTEND;VALUE=DATE:20270529
SUMMARY:Republic Day
DESCRIPTION:Republic Day commemorates the establishment of the First Republic of Armenia in 1918. Official ceremonies and cultural events highlight the country’s modern history.
URL:https://publicholidaysin.com/armenia/2027
STATUS:CONFIRMED
TRANSP:TRANSPARENT
END:VEVENT
BEGIN:VEVENT
UID:Constitution Day-2027-07-05@publicholidaysin.com
DTSTAMP:20260420T132515Z
DTSTART;VALUE=DATE:20270705
DTEND;VALUE=DATE:20270706
SUMMARY:Constitution Day
DESCRIPTION:Constitution Day marks the adoption of Armenia’s constitution. It is observed with civic events and national pride.
URL:https://publicholidaysin.com/armenia/2027
STATUS:CONFIRMED
TRANSP:TRANSPARENT
END:VEVENT
BEGIN:VEVENT
UID:Independence Day-2027-09-21@publicholidaysin.com
DTSTAMP:20260420T132515Z
DTSTART;VALUE=DATE:20270921
DTEND;VALUE=DATE:20270922
SUMMARY:Independence Day
DESCRIPTION:Independence Day celebrates Armenia’s 1991 independence referendum. Expect concerts\, fireworks\, and national ceremonies\, especially in Yerevan.
URL:https://publicholidaysin.com/armenia/2027
STATUS:CONFIRMED
TRANSP:TRANSPARENT
END:VEVENT
BEGIN:VEVENT
UID:New Year's Eve-2027-12-31@publicholidaysin.com
DTSTAMP:20260420T132515Z
DTSTART;VALUE=DATE:20271231
DTEND;VALUE=DATE:20280101
SUMMARY:New Year's Eve
DESCRIPTION:New Year’s Eve is the highlight of Armenia’s holiday season\, with family feasts\, fireworks\, and celebrations that run late into the night.
URL:https://publicholidaysin.com/armenia/2027
STATUS:CONFIRMED
TRANSP:TRANSPARENT
END:VEVENT
END:VCALENDAR
