BEGIN:VCALENDAR
VERSION:2.0
PRODID:-//PublicHolidaysIn//Holiday Calendar//EN
CALSCALE:GREGORIAN
METHOD:PUBLISH
X-WR-CALNAME:Armenia Public Holidays 2026
X-WR-CALDESC:Public holidays in Armenia for 2026.
BEGIN:VEVENT
UID:New Year's Day-2026-01-01@publicholidaysin.com
DTSTAMP:20260420T115047Z
DTSTART;VALUE=DATE:20260101
DTEND;VALUE=DATE:20260102
SUMMARY:New Year's Day
DESCRIPTION:New Year’s Day in Armenia begins a long winter holiday season with family visits\, festive meals\, and quiet city streets. Many people spend the day at home recovering from late‑night celebrations.
URL:https://publicholidaysin.com/armenia/2026
STATUS:CONFIRMED
TRANSP:TRANSPARENT
END:VEVENT
BEGIN:VEVENT
UID:New Year's Day-2026-01-02@publicholidaysin.com
DTSTAMP:20260420T115047Z
DTSTART;VALUE=DATE:20260102
DTEND;VALUE=DATE:20260103
SUMMARY:New Year's Day
DESCRIPTION:New Year’s Day in Armenia begins a long winter holiday season with family visits\, festive meals\, and quiet city streets. Many people spend the day at home recovering from late‑night celebrations.
URL:https://publicholidaysin.com/armenia/2026
STATUS:CONFIRMED
TRANSP:TRANSPARENT
END:VEVENT
BEGIN:VEVENT
UID:Christmas-2026-01-06@publicholidaysin.com
DTSTAMP:20260420T115047Z
DTSTART;VALUE=DATE:20260106
DTEND;VALUE=DATE:20260107
SUMMARY:Christmas
DESCRIPTION:Armenian Christmas is celebrated on January 6 with church services\, candlelight\, and traditional foods. It is one of the most important religious holidays of the year.
URL:https://publicholidaysin.com/armenia/2026
STATUS:CONFIRMED
TRANSP:TRANSPARENT
END:VEVENT
BEGIN:VEVENT
UID:Remembrance Day for Those Who Died in Defense of the Homeland-2026-01-27@publicholidaysin.com
DTSTAMP:20260420T115047Z
DTSTART;VALUE=DATE:20260127
DTEND;VALUE=DATE:20260128
SUMMARY:Remembrance Day for Those Who Died in Defense of the Homeland
DESCRIPTION:Remembrance Day for Those Who Died in Defense of the Homeland honors fallen soldiers and defenders. Ceremonies and memorial visits highlight the day’s solemn\, patriotic tone.
URL:https://publicholidaysin.com/armenia/2026
STATUS:CONFIRMED
TRANSP:TRANSPARENT
END:VEVENT
BEGIN:VEVENT
UID:Army Day-2026-01-28@publicholidaysin.com
DTSTAMP:20260420T115047Z
DTSTART;VALUE=DATE:20260128
DTEND;VALUE=DATE:20260129
SUMMARY:Army Day
DESCRIPTION:Army Day celebrates the Armenian Armed Forces with official ceremonies\, wreath‑laying\, and public recognition of military service.
URL:https://publicholidaysin.com/armenia/2026
STATUS:CONFIRMED
TRANSP:TRANSPARENT
END:VEVENT
BEGIN:VEVENT
UID:International Women's Day-2026-03-08@publicholidaysin.com
DTSTAMP:20260420T115047Z
DTSTART;VALUE=DATE:20260308
DTEND;VALUE=DATE:20260309
SUMMARY:International Women's Day
DESCRIPTION:International Women’s Day is widely celebrated with flowers\, family gatherings\, and public events honoring women’s contributions in society.
URL:https://publicholidaysin.com/armenia/2026
STATUS:CONFIRMED
TRANSP:TRANSPARENT
END:VEVENT
BEGIN:VEVENT
UID:Armenian Genocide Remembrance Day-2026-04-24@publicholidaysin.com
DTSTAMP:20260420T115047Z
DTSTART;VALUE=DATE:20260424
DTEND;VALUE=DATE:20260425
SUMMARY:Armenian Genocide Remembrance Day
DESCRIPTION:Armenian Genocide Remembrance Day is a deeply solemn national observance. Thousands visit the Tsitsernakaberd memorial in Yerevan to lay flowers and pay respects.
URL:https://publicholidaysin.com/armenia/2026
STATUS:CONFIRMED
TRANSP:TRANSPARENT
END:VEVENT
BEGIN:VEVENT
UID:Labour Day-2026-05-01@publicholidaysin.com
DTSTAMP:20260420T115047Z
DTSTART;VALUE=DATE:20260501
DTEND;VALUE=DATE:20260502
SUMMARY:Labour Day
DESCRIPTION:Labour Day is a nationwide day off often spent with family outings\, park visits\, and springtime gatherings.
URL:https://publicholidaysin.com/armenia/2026
STATUS:CONFIRMED
TRANSP:TRANSPARENT
END:VEVENT
BEGIN:VEVENT
UID:Non-working Day (EPC Summit)-2026-05-04@publicholidaysin.com
DTSTAMP:20260420T115047Z
DTSTART;VALUE=DATE:20260504
DTEND;VALUE=DATE:20260505
SUMMARY:Non-working Day (EPC Summit)
DESCRIPTION:This is a government‑designated non‑working day tied to an official event. It functions as a day off for public life\, with many services closed.
URL:https://publicholidaysin.com/armenia/2026
STATUS:CONFIRMED
TRANSP:TRANSPARENT
END:VEVENT
BEGIN:VEVENT
UID:Victory and Peace Day-2026-05-09@publicholidaysin.com
DTSTAMP:20260420T115047Z
DTSTART;VALUE=DATE:20260509
DTEND;VALUE=DATE:20260510
SUMMARY:Victory and Peace Day
DESCRIPTION:Victory and Peace Day marks the end of World War II and celebrates peace. Parades\, concerts\, and remembrance events are common across the country.
URL:https://publicholidaysin.com/armenia/2026
STATUS:CONFIRMED
TRANSP:TRANSPARENT
END:VEVENT
BEGIN:VEVENT
UID:Republic Day-2026-05-28@publicholidaysin.com
DTSTAMP:20260420T115047Z
DTSTART;VALUE=DATE:20260528
DTEND;VALUE=DATE:20260529
SUMMARY:Republic Day
DESCRIPTION:Republic Day commemorates the establishment of the First Republic of Armenia in 1918. Official ceremonies and cultural events highlight the country’s modern history.
URL:https://publicholidaysin.com/armenia/2026
STATUS:CONFIRMED
TRANSP:TRANSPARENT
END:VEVENT
BEGIN:VEVENT
UID:Constitution Day-2026-07-05@publicholidaysin.com
DTSTAMP:20260420T115047Z
DTSTART;VALUE=DATE:20260705
DTEND;VALUE=DATE:20260706
SUMMARY:Constitution Day
DESCRIPTION:Constitution Day marks the adoption of Armenia’s constitution. It is observed with civic events and national pride.
URL:https://publicholidaysin.com/armenia/2026
STATUS:CONFIRMED
TRANSP:TRANSPARENT
END:VEVENT
BEGIN:VEVENT
UID:Independence Day-2026-09-21@publicholidaysin.com
DTSTAMP:20260420T115047Z
DTSTART;VALUE=DATE:20260921
DTEND;VALUE=DATE:20260922
SUMMARY:Independence Day
DESCRIPTION:Independence Day celebrates Armenia’s 1991 independence referendum. Expect concerts\, fireworks\, and national ceremonies\, especially in Yerevan.
URL:https://publicholidaysin.com/armenia/2026
STATUS:CONFIRMED
TRANSP:TRANSPARENT
END:VEVENT
BEGIN:VEVENT
UID:New Year's Eve-2026-12-31@publicholidaysin.com
DTSTAMP:20260420T115047Z
DTSTART;VALUE=DATE:20261231
DTEND;VALUE=DATE:20270101
SUMMARY:New Year's Eve
DESCRIPTION:New Year’s Eve is the highlight of Armenia’s holiday season\, with family feasts\, fireworks\, and celebrations that run late into the night.
URL:https://publicholidaysin.com/armenia/2026
STATUS:CONFIRMED
TRANSP:TRANSPARENT
END:VEVENT
END:VCALENDAR
