BEGIN:VCALENDAR
VERSION:2.0
PRODID:-//PublicHolidaysIn//Holiday Calendar//EN
CALSCALE:GREGORIAN
METHOD:PUBLISH
X-WR-CALNAME:Armenia Public Holidays 2010
X-WR-CALDESC:Public holidays in Armenia for 2010.
BEGIN:VEVENT
UID:New Year's Day-2010-01-01@publicholidaysin.com
DTSTAMP:20260423T150801Z
DTSTART;VALUE=DATE:20100101
DTEND;VALUE=DATE:20100102
SUMMARY:Ամանոր
DESCRIPTION:New Year’s Day in Armenia begins a long winter holiday season with family visits\, festive meals\, and quiet city streets. Many people spend the day at home recovering from late‑night celebrations.
URL:https://publicholidaysin.com/armenia/2010
STATUS:CONFIRMED
TRANSP:TRANSPARENT
END:VEVENT
BEGIN:VEVENT
UID:New Year's Day-2010-01-02@publicholidaysin.com
DTSTAMP:20260423T150801Z
DTSTART;VALUE=DATE:20100102
DTEND;VALUE=DATE:20100103
SUMMARY:Ամանոր
DESCRIPTION:New Year’s Day in Armenia begins a long winter holiday season with family visits\, festive meals\, and quiet city streets. Many people spend the day at home recovering from late‑night celebrations.
URL:https://publicholidaysin.com/armenia/2010
STATUS:CONFIRMED
TRANSP:TRANSPARENT
END:VEVENT
BEGIN:VEVENT
UID:Christmas Day-2010-01-05@publicholidaysin.com
DTSTAMP:20260423T150801Z
DTSTART;VALUE=DATE:20100105
DTEND;VALUE=DATE:20100106
SUMMARY:Սուրբ Ծնունդ
DESCRIPTION:Armenian Christmas is celebrated on January 6 with church services\, candlelight\, and traditional foods. It is one of the most important religious holidays of the year.
URL:https://publicholidaysin.com/armenia/2010
STATUS:CONFIRMED
TRANSP:TRANSPARENT
END:VEVENT
BEGIN:VEVENT
UID:Christmas Day-2010-01-06@publicholidaysin.com
DTSTAMP:20260423T150801Z
DTSTART;VALUE=DATE:20100106
DTEND;VALUE=DATE:20100107
SUMMARY:Սուրբ Ծնունդ
DESCRIPTION:Armenian Christmas is celebrated on January 6 with church services\, candlelight\, and traditional foods. It is one of the most important religious holidays of the year.
URL:https://publicholidaysin.com/armenia/2010
STATUS:CONFIRMED
TRANSP:TRANSPARENT
END:VEVENT
BEGIN:VEVENT
UID:Army Day-2010-01-28@publicholidaysin.com
DTSTAMP:20260423T150801Z
DTSTART;VALUE=DATE:20100128
DTEND;VALUE=DATE:20100129
SUMMARY:Բանակի օր
DESCRIPTION:Army Day celebrates the Armenian Armed Forces with official ceremonies\, wreath‑laying\, and public recognition of military service.
URL:https://publicholidaysin.com/armenia/2010
STATUS:CONFIRMED
TRANSP:TRANSPARENT
END:VEVENT
BEGIN:VEVENT
UID:Women's Day-2010-03-08@publicholidaysin.com
DTSTAMP:20260423T150801Z
DTSTART;VALUE=DATE:20100308
DTEND;VALUE=DATE:20100309
SUMMARY:Կանանց տոն
DESCRIPTION:International Women’s Day is widely celebrated with flowers\, family gatherings\, and public events honoring women’s contributions in society.
URL:https://publicholidaysin.com/armenia/2010
STATUS:CONFIRMED
TRANSP:TRANSPARENT
END:VEVENT
BEGIN:VEVENT
UID:Easter Sunday-2010-04-04@publicholidaysin.com
DTSTAMP:20260423T150801Z
DTSTART;VALUE=DATE:20100404
DTEND;VALUE=DATE:20100405
SUMMARY:Ամանոր
DESCRIPTION:This is a public holiday in Armenia.
URL:https://publicholidaysin.com/armenia/2010
STATUS:CONFIRMED
TRANSP:TRANSPARENT
END:VEVENT
BEGIN:VEVENT
UID:Armenian Genocide Remembrance Day-2010-04-24@publicholidaysin.com
DTSTAMP:20260423T150801Z
DTSTART;VALUE=DATE:20100424
DTEND;VALUE=DATE:20100425
SUMMARY:Եղեռնի զոհերի հիշատակի օր
DESCRIPTION:Armenian Genocide Remembrance Day is a deeply solemn national observance. Thousands visit the Tsitsernakaberd memorial in Yerevan to lay flowers and pay respects.
URL:https://publicholidaysin.com/armenia/2010
STATUS:CONFIRMED
TRANSP:TRANSPARENT
END:VEVENT
BEGIN:VEVENT
UID:Labour Day-2010-05-01@publicholidaysin.com
DTSTAMP:20260423T150801Z
DTSTART;VALUE=DATE:20100501
DTEND;VALUE=DATE:20100502
SUMMARY:Աշխատանքի օր
DESCRIPTION:Labour Day is a nationwide day off often spent with family outings\, park visits\, and springtime gatherings.
URL:https://publicholidaysin.com/armenia/2010
STATUS:CONFIRMED
TRANSP:TRANSPARENT
END:VEVENT
BEGIN:VEVENT
UID:Victory and Peace Day-2010-05-09@publicholidaysin.com
DTSTAMP:20260423T150801Z
DTSTART;VALUE=DATE:20100509
DTEND;VALUE=DATE:20100510
SUMMARY:Հաղթանակի և Խաղաղության տոն
DESCRIPTION:Victory and Peace Day marks the end of World War II and celebrates peace. Parades\, concerts\, and remembrance events are common across the country.
URL:https://publicholidaysin.com/armenia/2010
STATUS:CONFIRMED
TRANSP:TRANSPARENT
END:VEVENT
BEGIN:VEVENT
UID:Republic Day-2010-05-28@publicholidaysin.com
DTSTAMP:20260423T150801Z
DTSTART;VALUE=DATE:20100528
DTEND;VALUE=DATE:20100529
SUMMARY:Հանրապետության օր
DESCRIPTION:Republic Day commemorates the establishment of the First Republic of Armenia in 1918. Official ceremonies and cultural events highlight the country’s modern history.
URL:https://publicholidaysin.com/armenia/2010
STATUS:CONFIRMED
TRANSP:TRANSPARENT
END:VEVENT
BEGIN:VEVENT
UID:Constitution Day-2010-07-05@publicholidaysin.com
DTSTAMP:20260423T150801Z
DTSTART;VALUE=DATE:20100705
DTEND;VALUE=DATE:20100706
SUMMARY:Սահմանադրության օր
DESCRIPTION:Constitution Day marks the adoption of Armenia’s constitution. It is observed with civic events and national pride.
URL:https://publicholidaysin.com/armenia/2010
STATUS:CONFIRMED
TRANSP:TRANSPARENT
END:VEVENT
BEGIN:VEVENT
UID:Independence Day-2010-09-21@publicholidaysin.com
DTSTAMP:20260423T150801Z
DTSTART;VALUE=DATE:20100921
DTEND;VALUE=DATE:20100922
SUMMARY:Անկախության օր
DESCRIPTION:Independence Day celebrates Armenia’s 1991 independence referendum. Expect concerts\, fireworks\, and national ceremonies\, especially in Yerevan.
URL:https://publicholidaysin.com/armenia/2010
STATUS:CONFIRMED
TRANSP:TRANSPARENT
END:VEVENT
BEGIN:VEVENT
UID:New Year's Eve-2010-12-31@publicholidaysin.com
DTSTAMP:20260423T150801Z
DTSTART;VALUE=DATE:20101231
DTEND;VALUE=DATE:20110101
SUMMARY:Ամանոր
DESCRIPTION:New Year’s Eve is the highlight of Armenia’s holiday season\, with family feasts\, fireworks\, and celebrations that run late into the night.
URL:https://publicholidaysin.com/armenia/2010
STATUS:CONFIRMED
TRANSP:TRANSPARENT
END:VEVENT
END:VCALENDAR
