BEGIN:VCALENDAR
VERSION:2.0
PRODID:-//PublicHolidaysIn//Holiday Calendar//EN
CALSCALE:GREGORIAN
METHOD:PUBLISH
X-WR-CALNAME:Armenia Public Holidays 1999
X-WR-CALDESC:Public holidays in Armenia for 1999.
BEGIN:VEVENT
UID:New Year's Day-1999-01-01@publicholidaysin.com
DTSTAMP:20260424T072704Z
DTSTART;VALUE=DATE:19990101
DTEND;VALUE=DATE:19990102
SUMMARY:Ամանոր
DESCRIPTION:New Year’s Day in Armenia begins a long winter holiday season with family visits\, festive meals\, and quiet city streets. Many people spend the day at home recovering from late‑night celebrations.
URL:https://publicholidaysin.com/armenia/1999
STATUS:CONFIRMED
TRANSP:TRANSPARENT
END:VEVENT
BEGIN:VEVENT
UID:New Year's Day-1999-01-02@publicholidaysin.com
DTSTAMP:20260424T072704Z
DTSTART;VALUE=DATE:19990102
DTEND;VALUE=DATE:19990103
SUMMARY:Ամանոր
DESCRIPTION:New Year’s Day in Armenia begins a long winter holiday season with family visits\, festive meals\, and quiet city streets. Many people spend the day at home recovering from late‑night celebrations.
URL:https://publicholidaysin.com/armenia/1999
STATUS:CONFIRMED
TRANSP:TRANSPARENT
END:VEVENT
BEGIN:VEVENT
UID:Christmas Day-1999-01-05@publicholidaysin.com
DTSTAMP:20260424T072704Z
DTSTART;VALUE=DATE:19990105
DTEND;VALUE=DATE:19990106
SUMMARY:Սուրբ Ծնունդ
DESCRIPTION:Armenian Christmas is celebrated on January 6 with church services\, candlelight\, and traditional foods. It is one of the most important religious holidays of the year.
URL:https://publicholidaysin.com/armenia/1999
STATUS:CONFIRMED
TRANSP:TRANSPARENT
END:VEVENT
BEGIN:VEVENT
UID:Christmas Day-1999-01-06@publicholidaysin.com
DTSTAMP:20260424T072704Z
DTSTART;VALUE=DATE:19990106
DTEND;VALUE=DATE:19990107
SUMMARY:Սուրբ Ծնունդ
DESCRIPTION:Armenian Christmas is celebrated on January 6 with church services\, candlelight\, and traditional foods. It is one of the most important religious holidays of the year.
URL:https://publicholidaysin.com/armenia/1999
STATUS:CONFIRMED
TRANSP:TRANSPARENT
END:VEVENT
BEGIN:VEVENT
UID:Army Day-1999-01-28@publicholidaysin.com
DTSTAMP:20260424T072704Z
DTSTART;VALUE=DATE:19990128
DTEND;VALUE=DATE:19990129
SUMMARY:Բանակի օր
DESCRIPTION:Army Day celebrates the Armenian Armed Forces with official ceremonies\, wreath‑laying\, and public recognition of military service.
URL:https://publicholidaysin.com/armenia/1999
STATUS:CONFIRMED
TRANSP:TRANSPARENT
END:VEVENT
BEGIN:VEVENT
UID:Women's Day-1999-03-08@publicholidaysin.com
DTSTAMP:20260424T072704Z
DTSTART;VALUE=DATE:19990308
DTEND;VALUE=DATE:19990309
SUMMARY:Կանանց տոն
DESCRIPTION:International Women’s Day is widely celebrated with flowers\, family gatherings\, and public events honoring women’s contributions in society.
URL:https://publicholidaysin.com/armenia/1999
STATUS:CONFIRMED
TRANSP:TRANSPARENT
END:VEVENT
BEGIN:VEVENT
UID:Easter Sunday-1999-04-04@publicholidaysin.com
DTSTAMP:20260424T072704Z
DTSTART;VALUE=DATE:19990404
DTEND;VALUE=DATE:19990405
SUMMARY:Ամանոր
DESCRIPTION:This is a public holiday in Armenia.
URL:https://publicholidaysin.com/armenia/1999
STATUS:CONFIRMED
TRANSP:TRANSPARENT
END:VEVENT
BEGIN:VEVENT
UID:Armenian Genocide Remembrance Day-1999-04-24@publicholidaysin.com
DTSTAMP:20260424T072704Z
DTSTART;VALUE=DATE:19990424
DTEND;VALUE=DATE:19990425
SUMMARY:Եղեռնի զոհերի հիշատակի օր
DESCRIPTION:Armenian Genocide Remembrance Day is a deeply solemn national observance. Thousands visit the Tsitsernakaberd memorial in Yerevan to lay flowers and pay respects.
URL:https://publicholidaysin.com/armenia/1999
STATUS:CONFIRMED
TRANSP:TRANSPARENT
END:VEVENT
BEGIN:VEVENT
UID:Labour Day-1999-05-01@publicholidaysin.com
DTSTAMP:20260424T072704Z
DTSTART;VALUE=DATE:19990501
DTEND;VALUE=DATE:19990502
SUMMARY:Աշխատանքի օր
DESCRIPTION:Labour Day is a nationwide day off often spent with family outings\, park visits\, and springtime gatherings.
URL:https://publicholidaysin.com/armenia/1999
STATUS:CONFIRMED
TRANSP:TRANSPARENT
END:VEVENT
BEGIN:VEVENT
UID:Victory and Peace Day-1999-05-09@publicholidaysin.com
DTSTAMP:20260424T072704Z
DTSTART;VALUE=DATE:19990509
DTEND;VALUE=DATE:19990510
SUMMARY:Հաղթանակի և Խաղաղության տոն
DESCRIPTION:Victory and Peace Day marks the end of World War II and celebrates peace. Parades\, concerts\, and remembrance events are common across the country.
URL:https://publicholidaysin.com/armenia/1999
STATUS:CONFIRMED
TRANSP:TRANSPARENT
END:VEVENT
BEGIN:VEVENT
UID:Republic Day-1999-05-28@publicholidaysin.com
DTSTAMP:20260424T072704Z
DTSTART;VALUE=DATE:19990528
DTEND;VALUE=DATE:19990529
SUMMARY:Հանրապետության օր
DESCRIPTION:Republic Day commemorates the establishment of the First Republic of Armenia in 1918. Official ceremonies and cultural events highlight the country’s modern history.
URL:https://publicholidaysin.com/armenia/1999
STATUS:CONFIRMED
TRANSP:TRANSPARENT
END:VEVENT
BEGIN:VEVENT
UID:Constitution Day-1999-07-05@publicholidaysin.com
DTSTAMP:20260424T072704Z
DTSTART;VALUE=DATE:19990705
DTEND;VALUE=DATE:19990706
SUMMARY:Սահմանադրության օր
DESCRIPTION:Constitution Day marks the adoption of Armenia’s constitution. It is observed with civic events and national pride.
URL:https://publicholidaysin.com/armenia/1999
STATUS:CONFIRMED
TRANSP:TRANSPARENT
END:VEVENT
BEGIN:VEVENT
UID:Independence Day-1999-09-21@publicholidaysin.com
DTSTAMP:20260424T072704Z
DTSTART;VALUE=DATE:19990921
DTEND;VALUE=DATE:19990922
SUMMARY:Անկախության օր
DESCRIPTION:Independence Day celebrates Armenia’s 1991 independence referendum. Expect concerts\, fireworks\, and national ceremonies\, especially in Yerevan.
URL:https://publicholidaysin.com/armenia/1999
STATUS:CONFIRMED
TRANSP:TRANSPARENT
END:VEVENT
BEGIN:VEVENT
UID:New Year's Eve-1999-12-31@publicholidaysin.com
DTSTAMP:20260424T072704Z
DTSTART;VALUE=DATE:19991231
DTEND;VALUE=DATE:20000101
SUMMARY:Ամանոր
DESCRIPTION:New Year’s Eve is the highlight of Armenia’s holiday season\, with family feasts\, fireworks\, and celebrations that run late into the night.
URL:https://publicholidaysin.com/armenia/1999
STATUS:CONFIRMED
TRANSP:TRANSPARENT
END:VEVENT
END:VCALENDAR
