BEGIN:VCALENDAR
VERSION:2.0
PRODID:-//PublicHolidaysIn//Holiday Calendar//EN
CALSCALE:GREGORIAN
METHOD:PUBLISH
X-WR-CALNAME:Armenia Public Holidays 1991
X-WR-CALDESC:Public holidays in Armenia for 1991.
BEGIN:VEVENT
UID:New Year's Day-1991-01-01@publicholidaysin.com
DTSTAMP:20260424T192735Z
DTSTART;VALUE=DATE:19910101
DTEND;VALUE=DATE:19910102
SUMMARY:Ամանոր
DESCRIPTION:New Year’s Day in Armenia begins a long winter holiday season with family visits\, festive meals\, and quiet city streets. Many people spend the day at home recovering from late‑night celebrations.
URL:https://publicholidaysin.com/armenia/1991
STATUS:CONFIRMED
TRANSP:TRANSPARENT
END:VEVENT
BEGIN:VEVENT
UID:New Year's Day-1991-01-02@publicholidaysin.com
DTSTAMP:20260424T192735Z
DTSTART;VALUE=DATE:19910102
DTEND;VALUE=DATE:19910103
SUMMARY:Ամանոր
DESCRIPTION:New Year’s Day in Armenia begins a long winter holiday season with family visits\, festive meals\, and quiet city streets. Many people spend the day at home recovering from late‑night celebrations.
URL:https://publicholidaysin.com/armenia/1991
STATUS:CONFIRMED
TRANSP:TRANSPARENT
END:VEVENT
BEGIN:VEVENT
UID:Christmas Day-1991-01-05@publicholidaysin.com
DTSTAMP:20260424T192735Z
DTSTART;VALUE=DATE:19910105
DTEND;VALUE=DATE:19910106
SUMMARY:Սուրբ Ծնունդ
DESCRIPTION:Armenian Christmas is celebrated on January 6 with church services\, candlelight\, and traditional foods. It is one of the most important religious holidays of the year.
URL:https://publicholidaysin.com/armenia/1991
STATUS:CONFIRMED
TRANSP:TRANSPARENT
END:VEVENT
BEGIN:VEVENT
UID:Christmas Day-1991-01-06@publicholidaysin.com
DTSTAMP:20260424T192735Z
DTSTART;VALUE=DATE:19910106
DTEND;VALUE=DATE:19910107
SUMMARY:Սուրբ Ծնունդ
DESCRIPTION:Armenian Christmas is celebrated on January 6 with church services\, candlelight\, and traditional foods. It is one of the most important religious holidays of the year.
URL:https://publicholidaysin.com/armenia/1991
STATUS:CONFIRMED
TRANSP:TRANSPARENT
END:VEVENT
BEGIN:VEVENT
UID:Army Day-1991-01-28@publicholidaysin.com
DTSTAMP:20260424T192735Z
DTSTART;VALUE=DATE:19910128
DTEND;VALUE=DATE:19910129
SUMMARY:Բանակի օր
DESCRIPTION:Army Day celebrates the Armenian Armed Forces with official ceremonies\, wreath‑laying\, and public recognition of military service.
URL:https://publicholidaysin.com/armenia/1991
STATUS:CONFIRMED
TRANSP:TRANSPARENT
END:VEVENT
BEGIN:VEVENT
UID:Women's Day-1991-03-08@publicholidaysin.com
DTSTAMP:20260424T192735Z
DTSTART;VALUE=DATE:19910308
DTEND;VALUE=DATE:19910309
SUMMARY:Կանանց տոն
DESCRIPTION:International Women’s Day is widely celebrated with flowers\, family gatherings\, and public events honoring women’s contributions in society.
URL:https://publicholidaysin.com/armenia/1991
STATUS:CONFIRMED
TRANSP:TRANSPARENT
END:VEVENT
BEGIN:VEVENT
UID:Easter Sunday-1991-03-31@publicholidaysin.com
DTSTAMP:20260424T192735Z
DTSTART;VALUE=DATE:19910331
DTEND;VALUE=DATE:19910401
SUMMARY:Ամանոր
DESCRIPTION:This is a public holiday in Armenia.
URL:https://publicholidaysin.com/armenia/1991
STATUS:CONFIRMED
TRANSP:TRANSPARENT
END:VEVENT
BEGIN:VEVENT
UID:Armenian Genocide Remembrance Day-1991-04-24@publicholidaysin.com
DTSTAMP:20260424T192735Z
DTSTART;VALUE=DATE:19910424
DTEND;VALUE=DATE:19910425
SUMMARY:Եղեռնի զոհերի հիշատակի օր
DESCRIPTION:Armenian Genocide Remembrance Day is a deeply solemn national observance. Thousands visit the Tsitsernakaberd memorial in Yerevan to lay flowers and pay respects.
URL:https://publicholidaysin.com/armenia/1991
STATUS:CONFIRMED
TRANSP:TRANSPARENT
END:VEVENT
BEGIN:VEVENT
UID:Labour Day-1991-05-01@publicholidaysin.com
DTSTAMP:20260424T192735Z
DTSTART;VALUE=DATE:19910501
DTEND;VALUE=DATE:19910502
SUMMARY:Աշխատանքի օր
DESCRIPTION:Labour Day is a nationwide day off often spent with family outings\, park visits\, and springtime gatherings.
URL:https://publicholidaysin.com/armenia/1991
STATUS:CONFIRMED
TRANSP:TRANSPARENT
END:VEVENT
BEGIN:VEVENT
UID:Victory and Peace Day-1991-05-09@publicholidaysin.com
DTSTAMP:20260424T192735Z
DTSTART;VALUE=DATE:19910509
DTEND;VALUE=DATE:19910510
SUMMARY:Հաղթանակի և Խաղաղության տոն
DESCRIPTION:Victory and Peace Day marks the end of World War II and celebrates peace. Parades\, concerts\, and remembrance events are common across the country.
URL:https://publicholidaysin.com/armenia/1991
STATUS:CONFIRMED
TRANSP:TRANSPARENT
END:VEVENT
BEGIN:VEVENT
UID:Republic Day-1991-05-28@publicholidaysin.com
DTSTAMP:20260424T192735Z
DTSTART;VALUE=DATE:19910528
DTEND;VALUE=DATE:19910529
SUMMARY:Հանրապետության օր
DESCRIPTION:Republic Day commemorates the establishment of the First Republic of Armenia in 1918. Official ceremonies and cultural events highlight the country’s modern history.
URL:https://publicholidaysin.com/armenia/1991
STATUS:CONFIRMED
TRANSP:TRANSPARENT
END:VEVENT
BEGIN:VEVENT
UID:Constitution Day-1991-07-05@publicholidaysin.com
DTSTAMP:20260424T192735Z
DTSTART;VALUE=DATE:19910705
DTEND;VALUE=DATE:19910706
SUMMARY:Սահմանադրության օր
DESCRIPTION:Constitution Day marks the adoption of Armenia’s constitution. It is observed with civic events and national pride.
URL:https://publicholidaysin.com/armenia/1991
STATUS:CONFIRMED
TRANSP:TRANSPARENT
END:VEVENT
BEGIN:VEVENT
UID:Independence Day-1991-09-21@publicholidaysin.com
DTSTAMP:20260424T192735Z
DTSTART;VALUE=DATE:19910921
DTEND;VALUE=DATE:19910922
SUMMARY:Անկախության օր
DESCRIPTION:Independence Day celebrates Armenia’s 1991 independence referendum. Expect concerts\, fireworks\, and national ceremonies\, especially in Yerevan.
URL:https://publicholidaysin.com/armenia/1991
STATUS:CONFIRMED
TRANSP:TRANSPARENT
END:VEVENT
BEGIN:VEVENT
UID:New Year's Eve-1991-12-31@publicholidaysin.com
DTSTAMP:20260424T192735Z
DTSTART;VALUE=DATE:19911231
DTEND;VALUE=DATE:19920101
SUMMARY:Ամանոր
DESCRIPTION:New Year’s Eve is the highlight of Armenia’s holiday season\, with family feasts\, fireworks\, and celebrations that run late into the night.
URL:https://publicholidaysin.com/armenia/1991
STATUS:CONFIRMED
TRANSP:TRANSPARENT
END:VEVENT
END:VCALENDAR
